BEGIN:VCALENDAR
VERSION:2.0
PRODID:-//NCMS - ECPv6.15.20//NONSGML v1.0//EN
CALSCALE:GREGORIAN
METHOD:PUBLISH
X-ORIGINAL-URL:https://classmgmt.com
X-WR-CALDESC:Events for NCMS
REFRESH-INTERVAL;VALUE=DURATION:PT1H
X-Robots-Tag:noindex
X-PUBLISHED-TTL:PT1H
BEGIN:VTIMEZONE
TZID:America/New_York
BEGIN:DAYLIGHT
TZOFFSETFROM:-0500
TZOFFSETTO:-0400
TZNAME:EDT
DTSTART:20240310T070000
END:DAYLIGHT
BEGIN:STANDARD
TZOFFSETFROM:-0400
TZOFFSETTO:-0500
TZNAME:EST
DTSTART:20241103T060000
END:STANDARD
BEGIN:DAYLIGHT
TZOFFSETFROM:-0500
TZOFFSETTO:-0400
TZNAME:EDT
DTSTART:20250309T070000
END:DAYLIGHT
BEGIN:STANDARD
TZOFFSETFROM:-0400
TZOFFSETTO:-0500
TZNAME:EST
DTSTART:20251102T060000
END:STANDARD
BEGIN:DAYLIGHT
TZOFFSETFROM:-0500
TZOFFSETTO:-0400
TZNAME:EDT
DTSTART:20260308T070000
END:DAYLIGHT
BEGIN:STANDARD
TZOFFSETFROM:-0400
TZOFFSETTO:-0500
TZNAME:EST
DTSTART:20261101T060000
END:STANDARD
END:VTIMEZONE
BEGIN:VEVENT
DTSTART;TZID=America/New_York:20250731T150000
DTEND;TZID=America/New_York:20250731T160000
DTSTAMP:20260419T090017
CREATED:20250623T215734Z
LAST-MODIFIED:20250731T033503Z
UID:10759-1753974000-1753977600@classmgmt.com
SUMMARY:SPECIAL - NCMSLive Training Series: NCMS: The State of the Society (0 CEU Credits)
DESCRIPTION:PRESENTED BY: Trish Brokenik\, General Dynamics\nNCMS 62nd President \nThe NCMS 62nd President will provide us the current state of the NCMS Society.
URL:https://classmgmt.com/event/special-ncmslive-training-series-ncms-the-state-of-the-society-0-ceu-credits/
CATEGORIES:National,NCMS Live
END:VEVENT
BEGIN:VEVENT
DTSTART;TZID=America/New_York:20250729T180000
DTEND;TZID=America/New_York:20250729T190000
DTSTAMP:20260419T090017
CREATED:20250623T215734Z
LAST-MODIFIED:20250729T033244Z
UID:10758-1753812000-1753815600@classmgmt.com
SUMMARY:IA - NCMSLive Training Series: The Cyber AB Town Hall (1 CEU Credit)
DESCRIPTION:PRESENTED BY: Live SimulcastJoin us as we simulcast The Cyber AB Town Hall for updates on the CMMC program from the operations team of the Accreditation Body. Review past Town Hall recordings here: https://cyberab.org/news-events/town-halls. Questions may be sent ahead of time to NCMSLive@classmgmt.com.
URL:https://classmgmt.com/event/ia-ncmslive-training-series-the-cyber-ab-town-hall-1-ceu-credit-4/
CATEGORIES:National,NCMS Live
END:VEVENT
BEGIN:VEVENT
DTSTART;TZID=America/New_York:20250724T150000
DTEND;TZID=America/New_York:20250724T160000
DTSTAMP:20260419T090017
CREATED:20250623T205747Z
LAST-MODIFIED:20250724T033503Z
UID:10751-1753369200-1753372800@classmgmt.com
SUMMARY:ET - NCMSLive Training Series: The EPP Program (0 CEU Credits)
DESCRIPTION:PRESENTED BY: Lea Mosher\, Akamai TechnologiesJoin us as we discuss the EPP Program.  If you’re thinking about taking the ISP®\, you might want to attend to see if this program will be helpful to you in your pursuit.
URL:https://classmgmt.com/event/et-ncmslive-training-series-the-epp-program-0-ceu-credits/
CATEGORIES:National,NCMS Live
END:VEVENT
BEGIN:VEVENT
DTSTART;TZID=America/New_York:20250723T150000
DTEND;TZID=America/New_York:20250723T160000
DTSTAMP:20260419T090017
CREATED:20250623T205747Z
LAST-MODIFIED:20250723T033354Z
UID:10750-1753282800-1753286400@classmgmt.com
SUMMARY:SPECIAL - NCMSLive Training Series: Tariffs and Supply Chain Security (1 CEU Credit)
DESCRIPTION:PRESENTED BY: Anthony Rapa\nBlank Rome LLPJoin us as we discuss supply chain security specifically where and how Join us as we discuss U.S. tariffs and their impact on supply chain security.  This session will cover the latest tariff developments\, strategies for mitigation of tariff impact\, and related supply chain security considerations.
URL:https://classmgmt.com/event/special-ncmslive-training-series-tariffs-and-supply-chain-security-1-ceu-credit/
CATEGORIES:National,NCMS Live
END:VEVENT
BEGIN:VEVENT
DTSTART;TZID=America/New_York:20250716T150000
DTEND;TZID=America/New_York:20250716T160000
DTSTAMP:20260419T090017
CREATED:20250623T205747Z
LAST-MODIFIED:20250716T033246Z
UID:10749-1752678000-1752681600@classmgmt.com
SUMMARY:IA - NCMSLive Training Series: Tech Talk – Transitioning from 800-53 rev 4 to rev 5 (1 CEU Credit)
DESCRIPTION:PRESENTED BY: Kevin Newman\, GtegrityJoin us as we discuss what will be involved in the transition from 800-53 revision 4 to revision 5.  We’ll also discuss the new DAAPM.
URL:https://classmgmt.com/event/ia-ncmslive-training-series-tech-talk-transitioning-from-800-53-rev-4-to-rev-5-1-ceu-credit/
CATEGORIES:National,NCMS Live
END:VEVENT
BEGIN:VEVENT
DTSTART;TZID=America/New_York:20250710T150000
DTEND;TZID=America/New_York:20250710T160000
DTSTAMP:20260419T090017
CREATED:20250623T205747Z
LAST-MODIFIED:20250709T203652Z
UID:10748-1752159600-1752163200@classmgmt.com
SUMMARY:SPECIAL - NCMSLive Training Series: What the FOCI (1 CEU Credit)
DESCRIPTION:PRESENTED BY: Doug Cameron\, C-4 SolutionsJoin us in our newest series where we discuss all things FOCI.  Doug Cameron will be here to discuss Board Resolutions and Special Board Resolutions.
URL:https://classmgmt.com/event/special-ncmslive-training-series-what-the-foci-1-ceu-credit/
CATEGORIES:National,NCMS Live
END:VEVENT
BEGIN:VEVENT
DTSTART;TZID=America/New_York:20250709T150000
DTEND;TZID=America/New_York:20250709T160000
DTSTAMP:20260419T090017
CREATED:20250623T195718Z
LAST-MODIFIED:20250708T203649Z
UID:10739-1752073200-1752076800@classmgmt.com
SUMMARY:ET - NCMSLive Training Series: Ask the FSO (1 CEU Credit)
DESCRIPTION:PRESENTED BY: Catherine Kaohi\, ISP®\, CS Consulting\, IncJoin NCMSLive as we answer questions posed by our members and provide updates on current NISP policy. Questions may be sent ahead of time to NCMSLive@classmgmt.com.
URL:https://classmgmt.com/event/et-ncmslive-training-series-ask-the-fso-1-ceu-credit-2/
CATEGORIES:National,NCMS Live
END:VEVENT
BEGIN:VEVENT
DTSTART;TZID=America/New_York:20250624T180000
DTEND;TZID=America/New_York:20250624T190000
DTSTAMP:20260419T090017
CREATED:20250408T190002Z
LAST-MODIFIED:20250623T205747Z
UID:6844-1750788000-1750791600@classmgmt.com
SUMMARY:IA - NCMSLive Training Series: The Cyber AB Town Hall (1 CEU Credit)
DESCRIPTION:PRESENTED BY: Join us as we simulcast The Cyber AB Town Hall where we will meet the operations team of the Accreditation Body and hear updates to the program. Questions may be sent ahead of time to NCMSLive@classmgmt.com.
URL:https://classmgmt.com/event/ia-ncmslive-training-series-the-cyber-ab-town-hall-1-ceu-credit-3/
CATEGORIES:NCMS Live,NCMS Live
END:VEVENT
BEGIN:VEVENT
DTSTART;TZID=America/New_York:20250528T150000
DTEND;TZID=America/New_York:20250528T160000
DTSTAMP:20260419T090017
CREATED:20250408T190002Z
LAST-MODIFIED:20250528T035720Z
UID:6843-1748444400-1748448000@classmgmt.com
SUMMARY:ET - NCMSLive Training Series: CUI Updates (1 CEU Credit)
DESCRIPTION:PRESENTED BY: Dr Dennis Daniels\nDCSA\, ESO Office\, CUI Team Lead \nCUI is an ever-changing subject in industry so join us as Dr Daniels of DCSA provides us with the latest updates on CUI.
URL:https://classmgmt.com/event/et-ncmslive-training-series-cui-updates-1-ceu-credit/
CATEGORIES:NCMS Live,NCMS Live
END:VEVENT
BEGIN:VEVENT
DTSTART;TZID=America/New_York:20250528T100000
DTEND;TZID=America/New_York:20250528T110000
DTSTAMP:20260419T090017
CREATED:20250408T190002Z
LAST-MODIFIED:20250528T035720Z
UID:6847-1748426400-1748430000@classmgmt.com
SUMMARY:ET - NCMSLive Training Series: NISPPAC Semi-Annual Meeting (2.5 CEU Credits)
DESCRIPTION:PRESENTED BY: Live SimulcastJoin us as we simulcast the semi-annual NISPPAC Meeting where DoD and Industry Leaders will provide Security Updates.
URL:https://classmgmt.com/event/et-ncmslive-training-series-nisppac-semi-annual-meeting-2-5-ceu-credits/
CATEGORIES:NCMS Live,NCMS Live
END:VEVENT
BEGIN:VEVENT
DTSTART;TZID=America/New_York:20250527T180000
DTEND;TZID=America/New_York:20250527T190000
DTSTAMP:20260419T090017
CREATED:20250408T190002Z
LAST-MODIFIED:20250527T035743Z
UID:6842-1748368800-1748372400@classmgmt.com
SUMMARY:IA - NCMSLive Training Series: The Cyber AB Town Hall (1 CEU Credit)
DESCRIPTION:PRESENTED BY: Live SimulcastJoin us as we simulcast The Cyber AB Town Hall where we will meet the operations team of the Accreditation Body and hear updates to the program. Questions may be sent ahead of time to NCMSLive@classmgmt.com.
URL:https://classmgmt.com/event/ia-ncmslive-training-series-the-cyber-ab-town-hall-1-ceu-credit-2/
CATEGORIES:NCMS Live,NCMS Live
END:VEVENT
BEGIN:VEVENT
DTSTART;TZID=America/New_York:20250522T150000
DTEND;TZID=America/New_York:20250522T160000
DTSTAMP:20260419T090017
CREATED:20250408T190002Z
LAST-MODIFIED:20250522T035717Z
UID:6841-1747926000-1747929600@classmgmt.com
SUMMARY:SPECIAL - NCMSLive Training Series: App in Action: Unveiling the NCMS Seminar App’s Features (0 CEU Credits)
DESCRIPTION:PRESENTED BY: Kyle Fernley\nNCMS Executive Director \nJames Wolfington\nMMCO \nCurtis Chappell\nThales Defense & Security\, Inc \nGet ready to explore the exciting features of the NCMS Seminar App! During this presentation\, we’ll walk you through the app’s capabilities\, including seamless access to seminar schedules\, speaker bios\, and interactive maps. You’ll also learn how to network with fellow attendees\, participate in live polls\, and receive real-time updates. Additionally\, the app will allow you to collect feedback and reviews on your seminar experience\, analyze session attendance\, and engage with various content and features. Don’t miss out on discovering how this app can enhance your seminar experience and keep you connected throughout the event!
URL:https://classmgmt.com/event/special-ncmslive-training-series-app-in-action-unveiling-the-ncms-seminar-apps-features-0-ceu-credits/
CATEGORIES:NCMS Live,NCMS Live
END:VEVENT
BEGIN:VEVENT
DTSTART;TZID=America/New_York:20250521T150000
DTEND;TZID=America/New_York:20250521T160000
DTSTAMP:20260419T090017
CREATED:20250408T190002Z
LAST-MODIFIED:20250521T035846Z
UID:6845-1747839600-1747843200@classmgmt.com
SUMMARY:IA - NCMSLive Training Series: Tech Talk (1 CEU Credit)
DESCRIPTION:PRESENTED BY: Kevin Newman\, CISSP\nGtegrity\, IncKevin Newman will be here to provide us the latest in Information Technology.    \nYou provide us the questions\, and we will provide you the answers. Questions may be sent ahead of time to NCMSLive@classmgmt.com.
URL:https://classmgmt.com/event/ia-ncmslive-training-series-tech-talk-1-ceu-credit/
CATEGORIES:NCMS Live,NCMS Live
END:VEVENT
BEGIN:VEVENT
DTSTART;TZID=America/New_York:20250514T150000
DTEND;TZID=America/New_York:20250514T160000
DTSTAMP:20260419T090017
CREATED:20250408T190002Z
LAST-MODIFIED:20250514T035722Z
UID:6840-1747234800-1747238400@classmgmt.com
SUMMARY:ET - NCMSLive Training Series: Ask the FSO (1 CEU Credit)
DESCRIPTION:PRESENTED BY: Catherine Kaohi\, ISP®\nCS Consulting\, Inc. \nYou provide us the questions about general security\, and we will provide you the answers. Questions may be sent ahead of time to NCMSLive@classmgmt.com.
URL:https://classmgmt.com/event/et-ncmslive-training-series-ask-the-fso-1-ceu-credit/
CATEGORIES:NCMS Live,NCMS Live
END:VEVENT
BEGIN:VEVENT
DTSTART;TZID=America/New_York:20250508T150000
DTEND;TZID=America/New_York:20250508T160000
DTSTAMP:20260419T090017
CREATED:20250408T190002Z
LAST-MODIFIED:20250508T035903Z
UID:6839-1746716400-1746720000@classmgmt.com
SUMMARY:SPECIAL - NCMSLive Training Series: APP-tastic Adventures: Discover the NCMS Seminar App (0 CEU Credits)
DESCRIPTION:PRESENTED BY: Kyle Fernley\nNCMS Executive Director \nJames Wolfington\nMMCO \nCurtis Chappell\nThales Defense & Security\, Inc \nGet ready to explore the exciting features of the NCMS Seminar App! During this presentation\, we’ll discuss some of the app’s capabilities\, including seamless access to seminar schedules\, speaker bios\, and more! You’ll also learn how to network with fellow attendees\, participate in live polls\, and receive real-time updates. Don’t miss out on discovering how this app can enhance your seminar experience and keep you connected throughout the event!
URL:https://classmgmt.com/event/special-ncmslive-training-series-app-tastic-adventures-discover-the-ncms-seminar-app-0-ceu-credits/
CATEGORIES:NCMS Live,NCMS Live
END:VEVENT
BEGIN:VEVENT
DTSTART;TZID=America/New_York:20250507T150000
DTEND;TZID=America/New_York:20250507T160000
DTSTAMP:20260419T090017
CREATED:20250408T190002Z
LAST-MODIFIED:20250507T025754Z
UID:6838-1746630000-1746633600@classmgmt.com
SUMMARY:ET - NCMSLive Training Series: How to Ensure Your SF328 Responses Are Correct (1 CEU Credit)
DESCRIPTION:PRESENTED BY: Carrie McCarthy\nDCSA\, Verification & Triage Unit \nA clear\, complete organizational chart depicting the full ownership and control of a cleared contractor and the corporate enterprise is an essential piece to any FCL Package. During this lesson\, DCSA will discuss what makes a great\, good\, and bad organizational chart. By the end of the lesson\, you will understand what an organizational chart is\, why is it so important\, common errors found in organizational charts\, and a general set of standards to adhere to when making your own.
URL:https://classmgmt.com/event/et-ncmslive-training-series-how-to-ensure-your-sf328-responses-are-correct-1-ceu-credit/
CATEGORIES:NCMS Live,NCMS Live
END:VEVENT
BEGIN:VEVENT
DTSTART;TZID=America/New_York:20250430T150000
DTEND;TZID=America/New_York:20250430T160000
DTSTAMP:20260419T090017
CREATED:20250408T190002Z
LAST-MODIFIED:20250430T025737Z
UID:6837-1746025200-1746028800@classmgmt.com
SUMMARY:ET - NCMSLive Training Series: How to Create the Perfect Org Chart (1 CEU Credit)
DESCRIPTION:PRESENTED BY: Dan Tillman\nDCSA\, Verification & Triage Unit \nA clear\, complete organizational chart depicting the full ownership and control of a cleared contractor and the corporate enterprise is an essential piece to any FCL Package. During this lesson\, DCSA will discuss what makes a great\, good\, and bad organizational chart. By the end of the lesson\, you will understand what an organizational chart is\, why is it so important\, common errors found in organizational charts\, and a general set of standards to adhere to when making your own.
URL:https://classmgmt.com/event/et-ncmslive-training-series-how-to-create-the-perfect-org-chart-1-ceu-credit/
CATEGORIES:NCMS Live,NCMS Live
END:VEVENT
BEGIN:VEVENT
DTSTART;TZID=America/New_York:20250429T180000
DTEND;TZID=America/New_York:20250429T190000
DTSTAMP:20260419T090017
CREATED:20250408T190002Z
LAST-MODIFIED:20250429T035911Z
UID:6836-1745949600-1745953200@classmgmt.com
SUMMARY:IA - NCMSLive Training Series: The Cyber AB Town Hall (1 CEU Credit)
DESCRIPTION:PRESENTED BY: Live SimulcastJoin us as we simulcast The Cyber AB Town Hall where we will meet the operations team of the Accreditation Body and hear updates to the program. Questions may be sent ahead of time to NCMSLive@classmgmt.com
URL:https://classmgmt.com/event/ia-ncmslive-training-series-the-cyber-ab-town-hall-1-ceu-credit/
CATEGORIES:NCMS Live,NCMS Live
END:VEVENT
BEGIN:VEVENT
DTSTART;TZID=America/New_York:20250429T150000
DTEND;TZID=America/New_York:20250429T160000
DTSTAMP:20260419T090017
CREATED:20250408T190002Z
LAST-MODIFIED:20250429T035911Z
UID:6846-1745938800-1745942400@classmgmt.com
SUMMARY:SPECIAL - NCMSLive Training Series: The 61st Annual NCMS Seminar (0 CEU Credits)
DESCRIPTION:PRESENTED BY: Stevie Dahl ISP® \nActOne Group of Companies \nSarah Turner\, ISP®\nNorthrop Grumman  \nJoin us for an exciting virtual preview of the NCMS 61st Annual Seminar.
URL:https://classmgmt.com/event/special-ncmslive-training-series-the-61st-annual-ncms-seminar-0-ceu-credits/
CATEGORIES:NCMS Live,NCMS Live
END:VEVENT
BEGIN:VEVENT
DTSTART;TZID=America/New_York:20250424T150000
DTEND;TZID=America/New_York:20250424T160000
DTSTAMP:20260419T090017
CREATED:20250408T190002Z
LAST-MODIFIED:20250417T205725Z
UID:6835-1745506800-1745510400@classmgmt.com
SUMMARY:SPECIAL - NCMSLive Training Series: The New NCMS Website (0 CEU Credits)
DESCRIPTION:PRESENTED BY: Kyle Fernley\nNCMS Executive Director \nJoin us as we uncover and discover the new NCMS Website!
URL:https://classmgmt.com/event/special-ncmslive-training-series-the-new-ncms-website-0-ceu-credits-2/
CATEGORIES:NCMS Live,NCMS Live
END:VEVENT
BEGIN:VEVENT
DTSTART;TZID=America/New_York:20250423T150000
DTEND;TZID=America/New_York:20250423T160000
DTSTAMP:20260419T090017
CREATED:20250408T190002Z
LAST-MODIFIED:20250423T035831Z
UID:6834-1745420400-1745424000@classmgmt.com
SUMMARY:ET - NCMSLive Training Series: Understanding the FCL Lifecycle Process (1 CEU Credit)
DESCRIPTION:PRESENTED BY: Matthew Kitzman\nDCSA\, Verification & Triage Unit \nUnderstanding the FCL Lifecycle\, its requirements\, and timelines from FCL sponsorship to FCL termination equips industry with the knowledge to navigate each Stage with ease. During this lesson\, DCSA will provide an overview of the end-to-end FCL Lifecyle\, including how to obtain an FCL\, sponsor another contractor an FCL\, and obtaining an FCL upgrade. By the end of the lesson\, you will have a better appreciation for the Stages that make up the Lifecycle and you can ensure you play your part in the success of your company.
URL:https://classmgmt.com/event/et-ncmslive-training-series-understanding-the-fcl-lifecycle-process-1-ceu-credit/
CATEGORIES:NCMS Live,NCMS Live
END:VEVENT
BEGIN:VEVENT
DTSTART;TZID=America/New_York:20250417T150000
DTEND;TZID=America/New_York:20250417T160000
DTSTAMP:20260419T090017
CREATED:20250408T190002Z
LAST-MODIFIED:20250417T035739Z
UID:6833-1744902000-1744905600@classmgmt.com
SUMMARY:SPECIAL - NCMSLive Training Series: The New NCMS Website (0 CEU Credits)
DESCRIPTION:PRESENTED BY: Kyle Fernley\nNCMS Executive Director \nJoin us as we uncover and discover the new NCMS Website!
URL:https://classmgmt.com/event/special-ncmslive-training-series-the-new-ncms-website-0-ceu-credits/
CATEGORIES:NCMS Live,NCMS Live
END:VEVENT
BEGIN:VEVENT
DTSTART;TZID=America/New_York:20250416T150000
DTEND;TZID=America/New_York:20250416T160000
DTSTAMP:20260419T090017
CREATED:20250408T190002Z
LAST-MODIFIED:20250416T035924Z
UID:6832-1744815600-1744819200@classmgmt.com
SUMMARY:IA - NCMSLive Training Series: Ask the Cyber Guy: Protecting Sensitive Data with Encryption (1 CEU Credit)
DESCRIPTION:PRESENTED BY: Chad Noles\nNOU Systems \nDuring this presentation\, we will discuss some of the common encryption techniques utilized for protecting sensitive data.
URL:https://classmgmt.com/event/ia-ncmslive-training-series-ask-the-cyber-guy-protecting-sensitive-data-with-encryption-1-ceu-credit/
CATEGORIES:NCMS Live,NCMS Live
END:VEVENT
END:VCALENDAR