BEGIN:VCALENDAR
VERSION:2.0
PRODID:-//NCMS - ECPv6.15.20//NONSGML v1.0//EN
CALSCALE:GREGORIAN
METHOD:PUBLISH
X-ORIGINAL-URL:https://classmgmt.com
X-WR-CALDESC:Events for NCMS
REFRESH-INTERVAL;VALUE=DURATION:PT1H
X-Robots-Tag:noindex
X-PUBLISHED-TTL:PT1H
BEGIN:VTIMEZONE
TZID:America/New_York
BEGIN:DAYLIGHT
TZOFFSETFROM:-0500
TZOFFSETTO:-0400
TZNAME:EDT
DTSTART:20240310T070000
END:DAYLIGHT
BEGIN:STANDARD
TZOFFSETFROM:-0400
TZOFFSETTO:-0500
TZNAME:EST
DTSTART:20241103T060000
END:STANDARD
BEGIN:DAYLIGHT
TZOFFSETFROM:-0500
TZOFFSETTO:-0400
TZNAME:EDT
DTSTART:20250309T070000
END:DAYLIGHT
BEGIN:STANDARD
TZOFFSETFROM:-0400
TZOFFSETTO:-0500
TZNAME:EST
DTSTART:20251102T060000
END:STANDARD
BEGIN:DAYLIGHT
TZOFFSETFROM:-0500
TZOFFSETTO:-0400
TZNAME:EDT
DTSTART:20260308T070000
END:DAYLIGHT
BEGIN:STANDARD
TZOFFSETFROM:-0400
TZOFFSETTO:-0500
TZNAME:EST
DTSTART:20261101T060000
END:STANDARD
END:VTIMEZONE
BEGIN:VEVENT
DTSTART;TZID=America/New_York:20251001T140000
DTEND;TZID=America/New_York:20251001T150000
DTSTAMP:20260420T005957
CREATED:20250919T153301Z
LAST-MODIFIED:20250919T153301Z
UID:11410-1759327200-1759330800@classmgmt.com
SUMMARY:ET - NCMSLive Training Series: CMMC for Small Businesses (0 CEU Credits)
DESCRIPTION:PRESENTED BY: Jim Goepel\nFathom Cyber \nGreg Laroche\nPreveil \nStuart Itkin\nFuture Feed \nChase Berman\nFuture Feed \nToby Musser\nMNS Group \nMichael Dempsey\nCISEVEJoin us as Lynn Burns hosts four companies who will present commercialized briefings on what their companies can do for small businesses to assist them with obtaining their CMMC assessment.
URL:https://classmgmt.com/event/et-ncmslive-training-series-cmmc-for-small-businesses-0-ceu-credits/
CATEGORIES:National
END:VEVENT
BEGIN:VEVENT
DTSTART;TZID=America/New_York:20250930T180000
DTEND;TZID=America/New_York:20250930T190000
DTSTAMP:20260420T005957
CREATED:20250826T153327Z
LAST-MODIFIED:20250930T033503Z
UID:11341-1759255200-1759258800@classmgmt.com
SUMMARY:IA - NCMSLive Training Series: The Cyber AB Town Hall (1 CEU Credit)
DESCRIPTION:PRESENTED BY: Live SimulcastJoin us as we simulcast The Cyber AB Town Hall where we will hear updates on the CMMC program from the operations team of the Accreditation Body. Review past Town Hall recordings here: https://cyberab.org/news-events/town-halls. Questions may be sent ahead of time to NCMSLive@classmgmt.com.
URL:https://classmgmt.com/event/ia-ncmslive-training-series-the-cyber-ab-town-hall-1-ceu-credit-5/
CATEGORIES:National
END:VEVENT
BEGIN:VEVENT
DTSTART;TZID=America/New_York:20250930T140000
DTEND;TZID=America/New_York:20250930T140100
DTSTAMP:20260420T005957
CREATED:20250708T203642Z
LAST-MODIFIED:20250930T033503Z
UID:10802-1759240800-1759240860@classmgmt.com
SUMMARY:SCIFs\, SAPFs\, Part 1
DESCRIPTION:Physical Security Class: SCIFs\, SAPFs\, Part 1 Canceled (See October Class)
URL:https://classmgmt.com/event/scifs-sapfs-part-1/
CATEGORIES:Chapter,Pikes Peak Chapter
END:VEVENT
BEGIN:VEVENT
DTSTART;TZID=America/New_York:20250925T150000
DTEND;TZID=America/New_York:20250925T160000
DTSTAMP:20260420T005957
CREATED:20250826T153327Z
LAST-MODIFIED:20250925T033502Z
UID:11340-1758812400-1758816000@classmgmt.com
SUMMARY:IT - NCMSLive Training Series: Insider Threat Training Best Practices Standard (1 CEU Credit)
DESCRIPTION:PRESENTED BY: Jessica Lee\n3M CenterJessica will share insider threat training best practices that can be adopted as standard practices within your organization. The session will also provide guidance on the new DCSA training requirements for Insider Threat Program Personnel\, helping teams strengthen compliance and resilience.
URL:https://classmgmt.com/event/it-ncmslive-training-series-insider-threat-training-best-practices-standard-1-ceu-credit/
CATEGORIES:National
END:VEVENT
BEGIN:VEVENT
DTSTART;TZID=America/New_York:20250924T150000
DTEND;TZID=America/New_York:20250924T160000
DTSTAMP:20260420T005957
CREATED:20250826T153327Z
LAST-MODIFIED:20250924T033502Z
UID:11339-1758726000-1758729600@classmgmt.com
SUMMARY:ET - NCMSLive Training Series: Suspicious Contact Reporting (1 CEU Credit)
DESCRIPTION:PRESENTED BY: Catherine Kaohi\, ISP®\nCS Consulting\, Inc. What is a suspicious contact and how do we report it?  What information is needed? Join us as we discuss suspicious contacts\, all the reporting requirements associated with it\, and how to alert your employees to it.
URL:https://classmgmt.com/event/et-ncmslive-training-series-suspicious-contact-reporting-1-ceu-credit/
CATEGORIES:National
END:VEVENT
BEGIN:VEVENT
DTSTART;TZID=America/New_York:20250923T090000
DTEND;TZID=America/New_York:20250923T113000
DTSTAMP:20260420T005957
CREATED:20250408T190002Z
LAST-MODIFIED:20250923T033255Z
UID:6831-1758618000-1758627000@classmgmt.com
SUMMARY:Northwest California Chapter Meeting
DESCRIPTION:Agenda: Local CI Update from DCSA and An OPSEC Overview – don’t miss out!
URL:https://classmgmt.com/event/northwest-california-chapter-meeting-3/
CATEGORIES:Chapter,Northwest California Chapter
END:VEVENT
BEGIN:VEVENT
DTSTART;TZID=America/New_York:20250919T110000
DTEND;TZID=America/New_York:20250919T130000
DTSTAMP:20260420T005957
CREATED:20250826T173235Z
LAST-MODIFIED:20250919T033308Z
UID:11352-1758279600-1758286800@classmgmt.com
SUMMARY:Paradise Chapter Quarterly Meeting w/NCMS Board of Directors
DESCRIPTION:Chapter meeting with the NCMS Board of Directors\nPresentation by the Las Vegas FBI Cyber Squad "Cyber Trends from the FBI Perspective"\nTour of the Atomic Testing Museum
URL:https://classmgmt.com/event/paradise-chapter-quarterly-meeting-w-ncms-board-of-directors/
CATEGORIES:Chapter,Paradise Chapter
END:VEVENT
BEGIN:VEVENT
DTSTART;TZID=America/New_York:20250918T150000
DTEND;TZID=America/New_York:20250918T160000
DTSTAMP:20260420T005957
CREATED:20250908T163238Z
LAST-MODIFIED:20250918T033503Z
UID:11372-1758207600-1758211200@classmgmt.com
SUMMARY:Chapter 24 - 3rd Quarter Chapter Meeting
DESCRIPTION:–	Welcome\n–	Chapter Treasurer’s Update\n–	Chapter Election Update (Open Offices: Vice Chair & Secretary/Treasurer)\n–	Chapter Logo Update\n–	Chapter Training Meeting \n–	Next Chapter Update Meeting
URL:https://classmgmt.com/event/chapter-24-3rd-quarter-chapter-meeting/
CATEGORIES:Chapter,Erie Canal Chapter,Mark Twain Chapter
END:VEVENT
BEGIN:VEVENT
DTSTART;TZID=America/New_York:20250918T083000
DTEND;TZID=America/New_York:20250918T163000
DTSTAMP:20260420T005957
CREATED:20250408T190001Z
LAST-MODIFIED:20250918T033502Z
UID:6816-1758184200-1758213000@classmgmt.com
SUMMARY:Ocmulgee Chapter 70 Seminar
DESCRIPTION:All day Seminar
URL:https://classmgmt.com/event/ocmulgee-chapter-70-seminar/
CATEGORIES:Chapter,Ocmulgee Region Chapter
END:VEVENT
BEGIN:VEVENT
DTSTART;TZID=America/New_York:20250917T150000
DTEND;TZID=America/New_York:20250917T160000
DTSTAMP:20260420T005957
CREATED:20250826T153327Z
LAST-MODIFIED:20250917T033244Z
UID:11338-1758121200-1758124800@classmgmt.com
SUMMARY:IA - NCMSLive Training Series: Tech Talk – Introduction to Classified Computers (1 CEU Credit)
DESCRIPTION:PRESENTED BY: Lynn Burns\nQuantum InternationalTune in as we share information of interest to the technical community. FSOs would be wise to attend these as well to ensure you have a general understanding of the technical expectations as they pertain to security.
URL:https://classmgmt.com/event/ia-ncmslive-training-series-tech-talk-introduction-to-classified-computers-1-ceu-credit/
CATEGORIES:National
END:VEVENT
BEGIN:VEVENT
DTSTART;TZID=America/New_York:20250916T150000
DTEND;TZID=America/New_York:20250916T160000
DTSTAMP:20260420T005957
CREATED:20250826T153327Z
LAST-MODIFIED:20250916T033502Z
UID:11337-1758034800-1758038400@classmgmt.com
SUMMARY:IT - NCMSLive Training Series: Insider Threat at the Front Door: Strengthening Hiring Practices Against Foreign Adversary Infiltration (1 CEU Credit)
DESCRIPTION:PRESENTED BY: Wailohia Woolsey\nPalo Alto Networks \nJason Castel\nViaSatThis session explores best practices for building hiring resilience to prevent insider threats from foreign adversaries. Participants will learn how to implement layered vetting\, cross-functional information sharing\, continuous evaluation\, and leverage external intelligence to detect suspicious activity. The presentation also highlights actionable guidance from 32 CFR 117\, NIST 800-171\, and federal agencies including DCSA\, FBI\, CISA\, and NCSC.
URL:https://classmgmt.com/event/it-ncmslive-training-series-insider-threat-at-the-front-door-strengthening-hiring-practices-against-foreign-adversary-infiltration-1-ceu-credit/
CATEGORIES:National
END:VEVENT
BEGIN:VEVENT
DTSTART;TZID=America/New_York:20250911T080000
DTEND;TZID=America/New_York:20250911T163000
DTSTAMP:20260420T005957
CREATED:20250408T190002Z
LAST-MODIFIED:20250911T033239Z
UID:6820-1757577600-1757608200@classmgmt.com
SUMMARY:31st NCMS Emerald Coast Chapter Fall Training Seminar
DESCRIPTION:Mark your calendars for the Emerald Coast Chapter September 11\, 2025 Fall Training Seminar.\nTake advantage of the opportunity for a day of superb training in our local area!\nPlease use the registration link below! Hope to see you there!\nNote: There will not be a virtual option for the Fall training seminar.   \nThe agenda is still forming. \nCost:      $100 members\n                 $125 non-members\n*NOTE:  When registering make sure to choose “other” under add a contribution.\nEnter 0.00 under contribution\, the Chapter will make this contribution
URL:https://classmgmt.com/event/31st-ncms-emerald-coast-chapter-fall-training-seminar/
CATEGORIES:Chapter,Emerald Coast Chapter
END:VEVENT
BEGIN:VEVENT
DTSTART;TZID=America/New_York:20250911T080000
DTEND;TZID=America/New_York:20250911T160000
DTSTAMP:20260420T005957
CREATED:20250408T190000Z
LAST-MODIFIED:20250911T033239Z
UID:6802-1757577600-1757606400@classmgmt.com
SUMMARY:2025 North Carolina RED DART Security Summit
DESCRIPTION:2025 North Carolina RED DART Security Summit   \nThis year’s topic is “ARTIFICIAL INTELLIGENCE: SEPARATING FACT FROM FICTION” \nKEYNOTE SPEAKERS \nSteve Cook is the Senior Program Manager for Threat Protection Services at Microsoft. He has more than 30 years’ experience working in government and industry. Mr. Cook has built and led highly successful programs for the intelligence community and companies within the defense industry and has trained more than 15\,000 federal agents and officers while serving as a Course Chair and Lead Instructor at the Intelligence Training Academy in Washington\, DC. With the rise of Artificial Intelligence (AI)\, Mr. Cook is recognized as a thought leader and Subject Matter Expert in how threat actors are weaponizing AI. \nCOL Travis A. Hartman is an Army Reservist and the Chief Technology Officer for Army Forces Command. In this role he led multiple teams including the Unified Network Operations (UNO)\, Defensive Cyber Operations (DCO)\, Forensics and Malware Analysis (FMA)\, and Cyber Risk Assessment (CRA). Dr. Hartman performs re-search on manipulating AI decisions and has presented at DARPA technical exchanges. He specializes in organizational change and process improvement.  \nPANEL DISCUSSION and Q&A with DARPA \nAttendees will have the opportunity to engage directly with Defense Advanced Research Projects Agency (DARPA) experts: Wil Corvey\, Mike Lack\, and Nate Bastian\, exploring real-world applications\, challenges and the future of AI. This session promises expert perspectives\, insightful discussions\, and practical takeaways for professionals navigating AI’s role in security. \n\nTo Register for the security summit\, please RSVP here https://www.zeffy.com/ticketing/2025-north-carolina-red-dart-security-summit
URL:https://classmgmt.com/event/2025-north-carolina-red-dart-security-summit/
CATEGORIES:Carolina Chapter,Chapter
END:VEVENT
BEGIN:VEVENT
DTSTART;TZID=America/New_York:20250911T070000
DTEND;TZID=America/New_York:20250911T170000
DTSTAMP:20260420T005957
CREATED:20250408T190000Z
LAST-MODIFIED:20250911T033239Z
UID:6800-1757574000-1757610000@classmgmt.com
SUMMARY:Annual Seminar - One Day
DESCRIPTION:Wright Flyer Chapter 42 One Day Annual Seminar
URL:https://classmgmt.com/event/annual-seminar-one-day/
CATEGORIES:Chapter,Wright Flyer Chapter
END:VEVENT
BEGIN:VEVENT
DTSTART;TZID=America/New_York:20250910T150000
DTEND;TZID=America/New_York:20250910T170000
DTSTAMP:20260420T005957
CREATED:20250408T190002Z
LAST-MODIFIED:20250910T033307Z
UID:6824-1757516400-1757523600@classmgmt.com
SUMMARY:NCMS PIKES PEAK CHAPTER 3RD QUARTER CHAPTER MEETING
DESCRIPTION:NCMS Pikes Peak Chapter 3rd Quarter Chapter Meeting\nHybrid Meeting at Hewlett Packard (HPE) 305 S Rockrimmon Blvd\, COS 80919 or online\no	CMMC with Max Shire & Jennifer Cannon  \no      Houses for Warriors Kindness Drive (Household and Food Items)
URL:https://classmgmt.com/event/ncms-pikes-peak-chapter-3rd-quarter-chapter-meeting/
CATEGORIES:Chapter,Pikes Peak Chapter
END:VEVENT
BEGIN:VEVENT
DTSTART;TZID=America/New_York:20250910T150000
DTEND;TZID=America/New_York:20250910T160000
DTSTAMP:20260420T005957
CREATED:20250826T153327Z
LAST-MODIFIED:20250910T033307Z
UID:11336-1757516400-1757520000@classmgmt.com
SUMMARY:ET - NCMSLive Training Series: Ask the FSO (1 CEU Credit)
DESCRIPTION:PRESENTED BY: Catherine Kaohi\, ISP®\nCS Consulting\, Inc.You provide the questions. We provide the answers. Send questions early\, if desired\, to cathe@csconsulting-inc.com
URL:https://classmgmt.com/event/et-ncmslive-training-series-ask-the-fso-1-ceu-credit-4/
CATEGORIES:National
END:VEVENT
BEGIN:VEVENT
DTSTART;TZID=America/New_York:20250909T150000
DTEND;TZID=America/New_York:20250909T160000
DTSTAMP:20260420T005957
CREATED:20250826T153327Z
LAST-MODIFIED:20250909T033311Z
UID:11335-1757430000-1757433600@classmgmt.com
SUMMARY:ET - NCMSLive Training Series: Domestic Terrorism Threat Overview (1 CEU Credit)
DESCRIPTION:PRESENTED BY: Jason Gustin\nFederal Bureau of InvestigationThe threat of domestic terrorism in the US is currently high and on the rise. Recent analyses indicate that the number of domestic terrorist attacks and plots has nearly tripled in the past five years compared to the previous 25 years combined. Join us as we discuss the current threat.
URL:https://classmgmt.com/event/et-ncmslive-training-series-domestic-terrorism-threat-overview-1-ceu-credit/
CATEGORIES:National
END:VEVENT
BEGIN:VEVENT
DTSTART;TZID=America/New_York:20250909T080000
DTEND;TZID=America/New_York:20250910T170000
DTSTAMP:20260420T005957
CREATED:20250408T190001Z
LAST-MODIFIED:20250909T033311Z
UID:6807-1757404800-1757523600@classmgmt.com
SUMMARY:Tri-Chapter Seminar - 2025
DESCRIPTION:DCSA Leadership remains a partner with the Tri-Chapter. DCSA  Asst. Director of Field Operations\, Larry Vincent joins us as a Keynote on Day 1. \nDay 2 Keynote brings us Major General (Retired) Kevin Wulfhorst \, FBI Newark Field Office presenting on Threats to Critical Infrastructure & DIB.  \nThere will be a great lineup for our 10th anniversary\, so you don’t want to miss it! \nJoining us in-person and presenting will be: \nKevin Newman\, the DCSA ISE team\, Allison Haley\, Dr. Dennis Daniels (DCSA CUI)\, Curtis Chappell and Alex Hubert\, DCSA AO for Eastern Region. \nRounding out our seminar\, we deliver the best by having Cathe Kaohi bring the latest updates in Industry. \nWe are excited to add the "DICE MAN" to our lineup this year. You don’t want to miss him! \nOur on-site Help Desks from AVS\, NBIS\, BI return to assist with all your needs. \nWe will be partnering as part of our giveback to Veteran’s Outreach of PA during the seminar. Beautifully located along the Susquehanna River\, VOPA has built a village of 15 tiny homes surrounding a community center to assist our Veterans experiencing homelessness. \nDonations for our homeless veterans within this outreach community will be accepted at the seminar.
URL:https://classmgmt.com/event/tri-chapter-seminar-2025/
CATEGORIES:Chapter,Liberty Chapter
END:VEVENT
BEGIN:VEVENT
DTSTART;TZID=America/New_York:20250904T150000
DTEND;TZID=America/New_York:20250904T160000
DTSTAMP:20260420T005957
CREATED:20250826T143241Z
LAST-MODIFIED:20250904T033253Z
UID:11325-1756998000-1757001600@classmgmt.com
SUMMARY:ET - NCMSLive Training Series: CMMC Therapy: The 12 Step Journey - Step 1: Inventories (1 CEU Credit)
DESCRIPTION:PRESENTED BY: James Goepel\nFathom CyberIt’s time to take the first step on the 12-step CMMC journey!  In this session\, we will discuss FCI and CUI and why an understanding of the kinds of CUI you have in your environment and how it flows throughout your company is so critical. We will also discuss how to inventory the different people\, business processes\, facilities\, technologies\, and external services that are involved in handling and safeguarding CUI in your environment.
URL:https://classmgmt.com/event/et-ncmslive-training-series-cmmc-therapy-the-12-step-journey-step-1-inventories-1-ceu-credit-2/
CATEGORIES:National
END:VEVENT
BEGIN:VEVENT
DTSTART;TZID=America/New_York:20250903T150000
DTEND;TZID=America/New_York:20250903T160000
DTSTAMP:20260420T005957
CREATED:20250825T173231Z
LAST-MODIFIED:20250903T033259Z
UID:11321-1756911600-1756915200@classmgmt.com
SUMMARY:IT - NCMSLive Training Series: The Insider Threat Working Group (1 CEU Credit)
DESCRIPTION:PRESENTED BY: Catherine Kaohi\, CS Consulting\, Inc. Join us as we discuss the Insider Threat Working Group.  Who should be a part of it\, what training do they need\, what do they need to be looking for in their respective areas\, and what should they bring to the table.
URL:https://classmgmt.com/event/it-ncmslive-training-series-the-insider-threat-working-group-1-ceu-credit/
CATEGORIES:National
END:VEVENT
BEGIN:VEVENT
DTSTART;TZID=America/New_York:20250827T150000
DTEND;TZID=America/New_York:20250827T160000
DTSTAMP:20260420T005957
CREATED:20250724T163237Z
LAST-MODIFIED:20250827T033430Z
UID:11131-1756306800-1756310400@classmgmt.com
SUMMARY:ET - NCMSLive Training Series: CSRs - Which one to use (1 CEU Credit)
DESCRIPTION:PRESENTED BY: Catherine Kaohi\, ISP\, CS Consulting Inc\nMike Ray\, PerSecProsWhen you’re submitting a CSR\, do you ever wonder if you’re using the right one?  Join us and learn what each CSR is used for to ensure you’re using the right one when needed.
URL:https://classmgmt.com/event/et-ncmslive-training-series-csrs-which-one-to-use-1-ceu-credit/
CATEGORIES:National
END:VEVENT
BEGIN:VEVENT
DTSTART;TZID=America/New_York:20250826T180000
DTEND;TZID=America/New_York:20250826T190000
DTSTAMP:20260420T005957
CREATED:20250724T153237Z
LAST-MODIFIED:20250826T033503Z
UID:11127-1756231200-1756234800@classmgmt.com
SUMMARY:IA - NCMSLive Training Series: Cyber AB Town Hall Meeting (1 CEU Credit)
DESCRIPTION:PRESENTED BY: SimulcastJoin us as we simulcast the monthly CyberAB Town Hall meeting and learn all the updates to the CMMC program.
URL:https://classmgmt.com/event/ia-ncmslive-training-series-cyber-ab-town-hall-meeting-1-ceu-credit/
CATEGORIES:National
END:VEVENT
BEGIN:VEVENT
DTSTART;TZID=America/New_York:20250821T150000
DTEND;TZID=America/New_York:20250821T160000
DTSTAMP:20260420T005957
CREATED:20250724T153237Z
LAST-MODIFIED:20250821T033502Z
UID:11126-1755788400-1755792000@classmgmt.com
SUMMARY:SPECIAL - NCMSLive Training Series: How to Become an ISP (0 CEU Credits)
DESCRIPTION:PRESENTED BY: Tanya Matthews\, TMG Construction\nHeather Maxwell\, Aevex \nJoin us as our two ISP Certification Chairs discuss the ISP Certification and what it takes to obtain yours.
URL:https://classmgmt.com/event/special-ncmslive-training-series-how-to-become-an-isp-0-ceu-credits/
CATEGORIES:National
END:VEVENT
BEGIN:VEVENT
DTSTART;TZID=America/New_York:20250821T000000
DTEND;TZID=America/New_York:20250821T000000
DTSTAMP:20260420T005957
CREATED:20250408T190001Z
LAST-MODIFIED:20250821T033502Z
UID:6815-1755734400-1755734400@classmgmt.com
SUMMARY:Ocmulgee Chapter 70 Meeting
DESCRIPTION:CANCELED Meeting
URL:https://classmgmt.com/event/ocmulgee-chapter-70-meeting-2/
CATEGORIES:Chapter,Ocmulgee Region Chapter
END:VEVENT
BEGIN:VEVENT
DTSTART;TZID=America/New_York:20250820T150000
DTEND;TZID=America/New_York:20250820T160000
DTSTAMP:20260420T005957
CREATED:20250724T153237Z
LAST-MODIFIED:20250820T033251Z
UID:11125-1755702000-1755705600@classmgmt.com
SUMMARY:IA - NCMSLive Training Series: Ask the Cyber Guy: New SIPRNet Connections (1 CEU Credit)
DESCRIPTION:PRESENTED BY: Dustin Sievers\, DCSA\nWilliam Vaughn\, DCSA \nIn this presentation DCSA will be with us to discuss what it takes to get the new SIPRNet system into your facility.
URL:https://classmgmt.com/event/ia-ncmslive-training-series-ask-the-cyber-guy-new-siprnet-connections-1-ceu-credit/
CATEGORIES:National
END:VEVENT
BEGIN:VEVENT
DTSTART;TZID=America/New_York:20250819T140000
DTEND;TZID=America/New_York:20250819T150000
DTSTAMP:20260420T005957
CREATED:20250808T223314Z
LAST-MODIFIED:20250819T033301Z
UID:11278-1755612000-1755615600@classmgmt.com
SUMMARY:San Diego State of the Chapter
DESCRIPTION:Chapter business\, nominations\, upcoming events
URL:https://classmgmt.com/event/san-diego-state-of-the-chapter/
CATEGORIES:Chapter,San Diego Chapter
END:VEVENT
BEGIN:VEVENT
DTSTART;TZID=America/New_York:20250819T100000
DTEND;TZID=America/New_York:20250819T130000
DTSTAMP:20260420T005957
CREATED:20250804T163240Z
LAST-MODIFIED:20250819T033301Z
UID:11155-1755597600-1755608400@classmgmt.com
SUMMARY:NCMS PNW Chapter 19 3rd Quarter Chapter Meeting
DESCRIPTION:NCMS PNW Chapter 19 3rd Quarter Chapter Meeting – both in-person and virtual via Zoom. Join us as we learn about "Data Spills" with Michael Connelly and Doug Schubert\, and "Restricted vs Open Storage" with Tim Ryan. Our chosen charity for this meeting is "KODI Cares". You can bring unexpired pet food\, pet treats\, new and/or good-condition-used pet items for donation or make a monetary donation via https://www.kodicares.org/donations. Please let us know you donated by emailing your chapter at ncms.pacificnorthwest@gmail.com. You can also buy items from their “Buy Site” on Facebook to support their homeless pet charity. They are a 501(c)3 organization so all donations are tax deductible (Federal tax ID 84-3044916).
URL:https://classmgmt.com/event/ncms-pnw-chapter-19-3rd-quarter-chapter-meeting/
CATEGORIES:Chapter,Pacific Northwest Chapter
END:VEVENT
BEGIN:VEVENT
DTSTART;TZID=America/New_York:20250814T150000
DTEND;TZID=America/New_York:20250814T160000
DTSTAMP:20260420T005957
CREATED:20250724T143239Z
LAST-MODIFIED:20250814T033504Z
UID:11122-1755183600-1755187200@classmgmt.com
SUMMARY:US - NCMSLive Training Series: Industrial Security in Academia – ISSM Related Topics & Relationships with FSOs (1 CEU Credit)
DESCRIPTION:PRESENTED BY: Brian Quenette\, University of Missouri\nMichael Hulet\, Kansas University\nJeff Cassil\, Oklahoma University \nJoin NCMSLive as we learn more about industrial security in Academia and all that comes with it.  We’ll be taking a look at the challenges\, issues\, and concerns faced by FSOs\, ISSMs\, and others that operate in this environment.  This is a sister forum to the Academia Hub.  So\, if your email ends in ".edu”\,we’re here for you.
URL:https://classmgmt.com/event/us-ncmslive-training-series-industrial-security-in-academia-issm-related-topics-relationships-with-fsos-1-ceu-credit/
CATEGORIES:National
END:VEVENT
BEGIN:VEVENT
DTSTART;TZID=America/New_York:20250813T150000
DTEND;TZID=America/New_York:20250813T160000
DTSTAMP:20260420T005957
CREATED:20250724T143239Z
LAST-MODIFIED:20250813T033241Z
UID:11121-1755097200-1755100800@classmgmt.com
SUMMARY:ET - NCMSLive Training Series: Ask the FSO (1 CEU Credit)
DESCRIPTION:PRESENTED BY: Catherine Kaohi\, ISP\, CS Consulting IncJoin NCMSLive as we answer questions posed by our members and provide updates on current NISP policy.
URL:https://classmgmt.com/event/et-ncmslive-training-series-ask-the-fso-1-ceu-credit-3/
CATEGORIES:National
END:VEVENT
BEGIN:VEVENT
DTSTART;TZID=America/New_York:20250813T110000
DTEND;TZID=America/New_York:20250813T130000
DTSTAMP:20260420T005957
CREATED:20250804T183237Z
LAST-MODIFIED:20250813T033241Z
UID:11157-1755082800-1755090000@classmgmt.com
SUMMARY:3rd Quarter NCMS Valley of the Sunn Meeting
DESCRIPTION:3rd Quarter meeting with guest speaker Douglas Cameron\, presenting CUI
URL:https://classmgmt.com/event/3rd-quarter-ncms-valley-of-the-sunn-meeting/
CATEGORIES:Chapter,Valley of the Sun Chapter
END:VEVENT
END:VCALENDAR