BEGIN:VCALENDAR
VERSION:2.0
PRODID:-//NCMS - ECPv6.15.20//NONSGML v1.0//EN
CALSCALE:GREGORIAN
METHOD:PUBLISH
X-WR-CALNAME:NCMS
X-ORIGINAL-URL:https://classmgmt.com
X-WR-CALDESC:Events for NCMS
REFRESH-INTERVAL;VALUE=DURATION:PT1H
X-Robots-Tag:noindex
X-PUBLISHED-TTL:PT1H
BEGIN:VTIMEZONE
TZID:America/New_York
BEGIN:DAYLIGHT
TZOFFSETFROM:-0500
TZOFFSETTO:-0400
TZNAME:EDT
DTSTART:20250309T070000
END:DAYLIGHT
BEGIN:STANDARD
TZOFFSETFROM:-0400
TZOFFSETTO:-0500
TZNAME:EST
DTSTART:20251102T060000
END:STANDARD
BEGIN:DAYLIGHT
TZOFFSETFROM:-0500
TZOFFSETTO:-0400
TZNAME:EDT
DTSTART:20260308T070000
END:DAYLIGHT
BEGIN:STANDARD
TZOFFSETFROM:-0400
TZOFFSETTO:-0500
TZNAME:EST
DTSTART:20261101T060000
END:STANDARD
BEGIN:DAYLIGHT
TZOFFSETFROM:-0500
TZOFFSETTO:-0400
TZNAME:EDT
DTSTART:20270314T070000
END:DAYLIGHT
BEGIN:STANDARD
TZOFFSETFROM:-0400
TZOFFSETTO:-0500
TZNAME:EST
DTSTART:20271107T060000
END:STANDARD
END:VTIMEZONE
BEGIN:VEVENT
DTSTART;TZID=America/New_York:20260324T150000
DTEND;TZID=America/New_York:20260324T160000
DTSTAMP:20260419T093132
CREATED:20260224T013629Z
LAST-MODIFIED:20260324T013532Z
UID:12022-1774364400-1774368000@classmgmt.com
SUMMARY:NCMSLive: Associate Member Capabilities Briefing: Mansfield Tech (0 CEU Credits)
DESCRIPTION:PRESENTED BY: Chris McDevitt\, Mansfield TechnologiesPRESENTED BY: Chris McDevitt\, Mansfield Technologies\nWhether you need secure confidential records destroyed\, hard drive shredding\, e-waste recycling\, end-of-life equipment disposal\, or other services\, Mansfield Technologies can do it. Come see what they can do for you and your company.
URL:https://classmgmt.com/event/ncmslive-associate-member-capabilities-briefing-mansfield-tech-0-ceu-credits/
CATEGORIES:National
END:VEVENT
BEGIN:VEVENT
DTSTART;TZID=America/New_York:20260319T113000
DTEND;TZID=America/New_York:20260319T133000
DTSTAMP:20260419T093132
CREATED:20260225T013732Z
LAST-MODIFIED:20260319T013531Z
UID:12041-1773919800-1773927000@classmgmt.com
SUMMARY:NCMS Alamo Chapter March 2025 Meeting
DESCRIPTION:Everything you wanted to know about CUI\, presented by Sydney Alfrido\, Director\, Corporate Security (FSO) & Enterprise Resilience Program (ERP)\, StandardAero
URL:https://classmgmt.com/event/ncms-alamo-chapter-march-2025-meeting/
CATEGORIES:Alamo Chapter,Chapter
END:VEVENT
BEGIN:VEVENT
DTSTART;TZID=America/New_York:20260318T100000
DTEND;TZID=America/New_York:20260318T110000
DTSTAMP:20260419T093132
CREATED:20260224T013629Z
LAST-MODIFIED:20260318T014108Z
UID:12021-1773828000-1773831600@classmgmt.com
SUMMARY:NCMSLive: NISPPAC (3 CEU Credits)
DESCRIPTION:PRESENTED BY: SimulcastPRESENTED BY: Simulcast\nJoin us as we simulcast the NISPPAC Public Meeting. These meetings serve as a forum to discuss policy issues in dispute and recommend changes to those policies.
URL:https://classmgmt.com/event/ncmslive-nisppac-3-ceu-credits/
CATEGORIES:National
END:VEVENT
BEGIN:VEVENT
DTSTART;TZID=America/New_York:20260318T000000
DTEND;TZID=America/New_York:20260318T000000
DTSTAMP:20260419T093132
CREATED:20251125T143345Z
LAST-MODIFIED:20260318T014107Z
UID:11682-1773792000-1773792000@classmgmt.com
SUMMARY:CH26 26Q1 - Chesapeake Bay Chapter Quarterly Meeting
DESCRIPTION:CH26 26Q1 – Chesapeake Bay Chapter Quarterly Meeting
URL:https://classmgmt.com/event/ch26-26q1-chesapeake-bay-chapter-quarterly-meeting/
CATEGORIES:Chapter,Chesapeake Bay Chapter
END:VEVENT
BEGIN:VEVENT
DTSTART;TZID=America/New_York:20260317T150000
DTEND;TZID=America/New_York:20260317T160000
DTSTAMP:20260419T093132
CREATED:20260224T013629Z
LAST-MODIFIED:20260317T013648Z
UID:12020-1773759600-1773763200@classmgmt.com
SUMMARY:NCMSLive: Associate Member Capabilities Briefing: SPG\, Inc. (0 CEU Credits)
DESCRIPTION:PRESENTED BY: Christy Bartolome\, SPG\, Inc.PRESENTED BY: Christy Bartolome\, SPG\, Inc.\nSPG provides secure modular buildings and storage vaults for military\, law enforcement and commercial applications. Come hear what they can do for you and your company.
URL:https://classmgmt.com/event/ncmslive-associate-member-capabilities-briefing-spg-inc-0-ceu-credits/
CATEGORIES:National
END:VEVENT
BEGIN:VEVENT
DTSTART;TZID=America/New_York:20260312T150000
DTEND;TZID=America/New_York:20260312T160000
DTSTAMP:20260419T093132
CREATED:20260312T013710Z
LAST-MODIFIED:20260312T013710Z
UID:12082-1773327600-1773331200@classmgmt.com
SUMMARY:NCMSLive: test sup (1 CEU Credit)
DESCRIPTION:PRESENTED BY: testtest
URL:https://classmgmt.com/event/ncmslive-test-sup-1-ceu-credit/
CATEGORIES:National
END:VEVENT
BEGIN:VEVENT
DTSTART;TZID=America/New_York:20260311T150000
DTEND;TZID=America/New_York:20260311T160000
DTSTAMP:20260419T093132
CREATED:20260224T013629Z
LAST-MODIFIED:20260311T013623Z
UID:12019-1773241200-1773244800@classmgmt.com
SUMMARY:NCMSLive: Ask the FSO (1 CEU Credit)
DESCRIPTION:PRESENTED BY: Catherine Kaohi\, ISP\, CS Consulting\, Inc.PRESENTED BY: Catherine Kaohi\, ISP\, CS Consulting\, Inc.\nJoin us to discuss industrial security updates and answers to questions posed by industrial security professionals.
URL:https://classmgmt.com/event/ncmslive-ask-the-fso-1-ceu-credit/
CATEGORIES:National
END:VEVENT
BEGIN:VEVENT
DTSTART;TZID=America/New_York:20260311T124500
DTEND;TZID=America/New_York:20260311T131500
DTSTAMP:20260419T093132
CREATED:20260122T013818Z
LAST-MODIFIED:20260311T013622Z
UID:11870-1773233100-1773234900@classmgmt.com
SUMMARY:Florida Sun Coast Chapter Meeting
DESCRIPTION:
URL:https://classmgmt.com/event/florida-sun-coast-chapter-meeting/
CATEGORIES:Chapter,Florida Sun Coast Chapter
END:VEVENT
BEGIN:VEVENT
DTSTART;TZID=America/New_York:20260311T083000
DTEND;TZID=America/New_York:20260311T160000
DTSTAMP:20260419T093132
CREATED:20260129T013603Z
LAST-MODIFIED:20260311T013622Z
UID:11915-1773217800-1773244800@classmgmt.com
SUMMARY:Winter 2026 FISWG NCMS Event
DESCRIPTION:Security Inquiries and Investigations / DCSA Perspective\nSecurity Incident Response\nFBI\nSocial Media Awareness and Information Safety\nCounterintelligence (CI) Overview (DCSA)
URL:https://classmgmt.com/event/winter-2026-fiswg-ncms-event/
CATEGORIES:Chapter,Florida Sun Coast Chapter
END:VEVENT
BEGIN:VEVENT
DTSTART;TZID=America/New_York:20260311T080000
DTEND;TZID=America/New_York:20260311T160000
DTSTAMP:20260419T093132
CREATED:20251112T133423Z
LAST-MODIFIED:20260311T013622Z
UID:11637-1773216000-1773244800@classmgmt.com
SUMMARY:FISWG / NCMS Training Seminar
DESCRIPTION:FISWG / NCMS Quarterly Seminar – 2026Q1 Event Hosted by Florida Industrial Security Working Group and sponsored by NCMS FL Chapters.
URL:https://classmgmt.com/event/fiswg-ncms-training-seminar/
CATEGORIES:Chapter,Florida Space Coast Chapter
END:VEVENT
BEGIN:VEVENT
DTSTART;TZID=America/New_York:20260306T120000
DTEND;TZID=America/New_York:20260306T130000
DTSTAMP:20260419T093132
CREATED:20260221T013547Z
LAST-MODIFIED:20260306T013639Z
UID:12007-1772798400-1772802000@classmgmt.com
SUMMARY:San Diego First Quarter Chapter Meeting: Adverse Report Tracking
DESCRIPTION:How we track your company’s cleared employees from the initial report to government adjudication or completion for foreign travel\, foreign contacts and incidents\, both through manual tracking and using SIMS new free reporting tool with SIMS.
URL:https://classmgmt.com/event/san-diego-first-quarter-chapter-meeting-adverse-report-tracking/
CATEGORIES:Chapter,San Diego Chapter
END:VEVENT
BEGIN:VEVENT
DTSTART;TZID=America/New_York:20260305T150000
DTEND;TZID=America/New_York:20260305T160000
DTSTAMP:20260419T093132
CREATED:20260224T013629Z
LAST-MODIFIED:20260305T013718Z
UID:12018-1772722800-1772726400@classmgmt.com
SUMMARY:NCMSLive: CUI Update (1 CEU Credit)
DESCRIPTION:PRESENTED BY: Lillian Benitez\, DCSAPRESENTED BY: Lillian Benitez\, DCSA\nJoin us as Lillian Benitez from the DCSA CUI office provides us with the latest information on CUI.
URL:https://classmgmt.com/event/ncmslive-cui-update-1-ceu-credit/
CATEGORIES:National
END:VEVENT
BEGIN:VEVENT
DTSTART;TZID=America/New_York:20260304T150000
DTEND;TZID=America/New_York:20260304T160000
DTSTAMP:20260419T093132
CREATED:20260224T013629Z
LAST-MODIFIED:20260304T013535Z
UID:12017-1772636400-1772640000@classmgmt.com
SUMMARY:NCMSLive: Unlocking FSO Excellence: Balancing the Duties and Risks of Reporting (1 CEU Credit)
DESCRIPTION:PRESENTED BY: Brian Kaveney\, Armstrong Teasdale LLPPRESENTED BY: Brian Kaveney\, Armstrong Teasdale LLP\nDuring this NCMS presentation\, Brian Kaveney will discuss FSO duties\, the complex legal puzzle and uncertainty FSOs face if they do not properly report in a timely manner\, the immunity they are granted from the federal government and the obligation they have to get the reporting right for their sake and the sake of the company or university.
URL:https://classmgmt.com/event/ncmslive-unlocking-fso-excellence-balancing-the-duties-and-risks-of-reporting-1-ceu-credit/
CATEGORIES:National
END:VEVENT
BEGIN:VEVENT
DTSTART;TZID=America/New_York:20260304T130000
DTEND;TZID=America/New_York:20260304T150000
DTSTAMP:20260419T093132
CREATED:20260224T013629Z
LAST-MODIFIED:20260304T013535Z
UID:12010-1772629200-1772636400@classmgmt.com
SUMMARY:NCMS ROCKY MOUNTAIN CHAPTER 1ST QUARTER CHAPTER MEETING
DESCRIPTION:Rocky Mountain Chapter Meeting\nWe are please to announce that our first meeting of the year will take place on March 4th from 1-3pm.   \nThere are two in-person attendance options: \nNorthern Colorado:  Vantor Company located at 1300 W 120th Ave\, Westminster\, CO 80234.\n•	If you are attending at this location\, please RSVP to Jessica Cuningham\, Chapter Secretary\, at jcuningham@bluecanyontech.com \nSouthern Colorado: Mitre 1155 Academy Park Loop\, Colorado Springs\, CO 80910\n•	If you are attending at this location\, please send a Visit Cert Via DISS to:\no	SMO code: 6D573\no	POC Rebecca DeVore; RDEVORE@mitre.org\no	Purpose: NCMS Meeting\no	Date: March 4th  \nMeeting Agenda:\n•	CMMC for FSOs- Tennille Prichard\no	What you need to know before your audit!\n•	DCSA CI Brief- to make up for missed ITWG meeting this past quarter\n•	Chapter Business\no	Logo reveal\no	Poster Contest for June\no	DCSA Industry Day!!!!! \n________________________________________________________________________________\nMicrosoft Teams Need help? \nJoin the meeting now \nMeeting ID: 992 699 736 844 \nPasscode: 22PT9sc6
URL:https://classmgmt.com/event/ncms-rocky-mountain-chapter-1st-quarter-chapter-meeting/
CATEGORIES:Chapter,Rocky Mountain Chapter
END:VEVENT
BEGIN:VEVENT
DTSTART;TZID=America/New_York:20260304T030000
DTEND;TZID=America/New_York:20260304T041500
DTSTAMP:20260419T093132
CREATED:20260205T013645Z
LAST-MODIFIED:20260304T013535Z
UID:11950-1772593200-1772597700@classmgmt.com
SUMMARY:New Requirements in DCSA's Assessment and Authorization Guid (DAAG)
DESCRIPTION:Join us as Mr. Lynn Burns reviews many of the new requirements in DCSA’s Assessment and Authorization Guide (DAAG).  This is a free virtual chapter training
URL:https://classmgmt.com/event/new-requirements-in-dcsas-assessment-and-authorization-guid-daag/
CATEGORIES:Central VA Chapter,Chapter
END:VEVENT
BEGIN:VEVENT
DTSTART;TZID=America/New_York:20260226T150000
DTEND;TZID=America/New_York:20260226T160000
DTSTAMP:20260419T093132
CREATED:20260124T013526Z
LAST-MODIFIED:20260226T013724Z
UID:11885-1772118000-1772121600@classmgmt.com
SUMMARY:SPECIAL - NCMSLive Training Series: Meet the 63rd NCMS BoD Candidates (0 CEU Credits)
DESCRIPTION:PRESENTED BY: Candidates for the 63rd Board of DirectorsIn March\, the ballots for the 63rd BoD will be released. Before you vote\, join us to hear the candidates talk about who they are and why they are running for the NCMS Board of Directors.
URL:https://classmgmt.com/event/special-ncmslive-training-series-meet-the-63rd-ncms-bod-candidates-0-ceu-credits/
CATEGORIES:National
END:VEVENT
BEGIN:VEVENT
DTSTART;TZID=America/New_York:20260226T110000
DTEND;TZID=America/New_York:20260226T130000
DTSTAMP:20260419T093132
CREATED:20260102T173237Z
LAST-MODIFIED:20260226T013723Z
UID:11770-1772103600-1772110800@classmgmt.com
SUMMARY:NCMS Lone Star Chapter Meeting - February 2026
DESCRIPTION:Announcing our next Chapter Meeting on Thursday\, February 26th! \nWe are pleased to offer you a virtual Chapter Meeting! \nAgenda:\n11:00am – 11:15am Chapter Business\n11:15am – 12:30pm How AI is Transforming National Security \n“How AI is Transforming National Security\,” presented by Dr. Jack Francis\, AI Solutions Director at Davidson Technologies\, and Jason Kearns\, Principal Enterprise Solutions Architect at Davidson Technologies. \nThis timely and engaging session will explore how the rise of Generative AI is reshaping the national security landscape\, impacting both defensive and offensive capabilities. Our speakers will address:\n– How the Department of War is leveraging AI to achieve “Decision Advantage”\n– The growing threat of adversarial AI\, including DarkGPTs and automated cyberattacks\n– Emerging shifts in security and cyber posture necessary to stay ahead of evolving risks \nRegister here:\nhttps://www.zeffy.com/en-US/ticketing/lone-star-february–2026 \nJoin us for this educational opportunity! \nAfter you register\, you’ll receive a NCMS Zoom meeting invite.
URL:https://classmgmt.com/event/ncms-lone-star-chapter-meeting-february-2026/
CATEGORIES:Chapter,Lone Star Chapter
END:VEVENT
BEGIN:VEVENT
DTSTART;TZID=America/New_York:20260225T150000
DTEND;TZID=America/New_York:20260225T160000
DTSTAMP:20260419T093132
CREATED:20260124T013526Z
LAST-MODIFIED:20260225T013732Z
UID:11884-1772031600-1772035200@classmgmt.com
SUMMARY:ET - NCMSLive Training Series: CMMC Group Therapy: Step 5 (1 CEU Credit)
DESCRIPTION:PRESENTED BY: Jim Goepel\, Peak Infosec CyberJoin us as we continue with Step 5 of CMMC Group Therapy. In case you missed the first part\, it was presented on 22 January and is posted to the NCMSLive website.
URL:https://classmgmt.com/event/et-ncmslive-training-series-cmmc-group-therapy-step-5-1-ceu-credit/
CATEGORIES:National
END:VEVENT
BEGIN:VEVENT
DTSTART;TZID=America/New_York:20260225T110000
DTEND;TZID=America/New_York:20260225T130000
DTSTAMP:20260419T093132
CREATED:20260127T013702Z
LAST-MODIFIED:20260225T013732Z
UID:11896-1772017200-1772024400@classmgmt.com
SUMMARY:1st Quarter Chapter Meeting
DESCRIPTION:Valley of the Sun Chapter 1st Quarter meeting. We will be discussing the latest and greatest with the Chapter and will have Dr. C. Morgan\, experienced in intelligence with the DOD\, U.S. Army and private sector\, will be discussing CI with us.
URL:https://classmgmt.com/event/1st-quarter-chapter-meeting/
CATEGORIES:Chapter,Valley of the Sun Chapter
END:VEVENT
BEGIN:VEVENT
DTSTART;TZID=America/New_York:20260225T090000
DTEND;TZID=America/New_York:20260225T130000
DTSTAMP:20260419T093132
CREATED:20260117T013931Z
LAST-MODIFIED:20260225T013732Z
UID:11821-1772010000-1772024400@classmgmt.com
SUMMARY:Liberty Chapter February 2026 Meeting
DESCRIPTION:Mack Defense\n2402 Lehigh Parkway South\nAllentown\, PA 18103  \nhttps://www.zeffy.com/en-US/ticketing/liberty-chapter-meeting-feb–2026
URL:https://classmgmt.com/event/liberty-chapter-february-2026-meeting/
CATEGORIES:Chapter,Liberty Chapter
END:VEVENT
BEGIN:VEVENT
DTSTART;TZID=America/New_York:20260224T100000
DTEND;TZID=America/New_York:20260224T120000
DTSTAMP:20260419T093132
CREATED:20260210T013944Z
LAST-MODIFIED:20260224T013629Z
UID:11962-1771927200-1771934400@classmgmt.com
SUMMARY:CH 70 Ocmulgee - Training & Member Meeting
DESCRIPTION:CH 70 Ocmulgee – Training & Member Meeting
URL:https://classmgmt.com/event/ch-70-ocmulgee-training-member-meeting/
CATEGORIES:Chapter,Ocmulgee Region Chapter
END:VEVENT
BEGIN:VEVENT
DTSTART;TZID=America/New_York:20260218T150000
DTEND;TZID=America/New_York:20260218T160000
DTSTAMP:20260419T093132
CREATED:20260124T013526Z
LAST-MODIFIED:20260218T013809Z
UID:11883-1771426800-1771430400@classmgmt.com
SUMMARY:ET - NCMSLive Training Series: Conducting a CUI Self-Inspection (1 CEU Credit)
DESCRIPTION:PRESENTED BY: Jim Goepel\, Peak Infosec CyberPRESENTED BY: Jim Goepel\, Peak Infosec Cyber Although our CUI Programs are not inspected by DCSA\, we still need to ensure that we have a viable CUI Program in place. Join us as we learn how to ensure that your program is delivering as promised.
URL:https://classmgmt.com/event/et-ncmslive-training-series-conducting-a-cui-self-inspection-1-ceu-credit/
CATEGORIES:National
END:VEVENT
BEGIN:VEVENT
DTSTART;TZID=America/New_York:20260212T150000
DTEND;TZID=America/New_York:20260212T160000
DTSTAMP:20260419T093132
CREATED:20260124T013526Z
LAST-MODIFIED:20260212T013542Z
UID:11882-1770908400-1770912000@classmgmt.com
SUMMARY:US - NCMSLive Training Series: Academia Security (1 CEU Credit)
DESCRIPTION:PRESENTED BY: Brian Quenette\, University of Missouri Tom Brewer\, TADGS Richard Ray\, EACOWTPRESENTED BY: Brian Quenette\, University of Missouri Tom Brewer\, TADGS Richard Ray\, EACOWTThe FOCI experts join Brian Quenette to discuss how the SF-328 and FOCI affect Academia.
URL:https://classmgmt.com/event/us-ncmslive-training-series-academia-security-1-ceu-credit-2/
CATEGORIES:National
END:VEVENT
BEGIN:VEVENT
DTSTART;TZID=America/New_York:20260212T113000
DTEND;TZID=America/New_York:20260212T130000
DTSTAMP:20260419T093132
CREATED:20260123T013556Z
LAST-MODIFIED:20260212T013542Z
UID:11874-1770895800-1770901200@classmgmt.com
SUMMARY:Chapter Meeting  (1 CEU)
DESCRIPTION:Glenda Snodgrass will share an update on the CMMC Ecosystem. As CMMC increasingly dominates the security landscape\, this will be a must-hear update.\nThe meeting will be in person in Pensacola\, Fl.  \nVirtual Session via ZOOM\nJoin Zoom Meeting\nhttps://ihmc-org.zoom.us/j/83638836673?pwd=akwc2laHYSTDauRVISVC13a9l1mJuF.1
URL:https://classmgmt.com/event/chapter-meeting-1-ceu/
CATEGORIES:Chapter,Emerald Coast Chapter
END:VEVENT
BEGIN:VEVENT
DTSTART;TZID=America/New_York:20260212T110000
DTEND;TZID=America/New_York:20260212T130000
DTSTAMP:20260419T093133
CREATED:20260107T143326Z
LAST-MODIFIED:20260212T013542Z
UID:11803-1770894000-1770901200@classmgmt.com
SUMMARY:Quarter 1 Chapter Meeting
DESCRIPTION:11:00 AM – 11:16 AM | Opening Remarks\n11:16 AM – 11:56 AM | Chris Flitcraft & Deputy Region Misson Director  – DCSA (DCSA Updates)\n11:56 AM – 12:06 PM | Break\n12:06 PM – 12:46 PM | Jeremy Wendell – Northrop Grumman (Personnel Security)\n12:46 PM – 1:00 PM | Chapter Business \nThe registration link and lunch options are below: \nhttps://www.zeffy.com/en-US/ticketing/q1-greater-dfw-chapter-meeting
URL:https://classmgmt.com/event/quarter-1-chapter-meeting/
CATEGORIES:Chapter,Greater Dallas/Fort Worth Chapter
END:VEVENT
BEGIN:VEVENT
DTSTART;TZID=America/New_York:20260212T100000
DTEND;TZID=America/New_York:20260212T120000
DTSTAMP:20260419T093134
CREATED:20260203T013558Z
LAST-MODIFIED:20260212T013542Z
UID:11938-1770890400-1770897600@classmgmt.com
SUMMARY:Quarter 1 Meeting
DESCRIPTION:
URL:https://classmgmt.com/event/quarter-1-meeting/
CATEGORIES:Chapter,Wright Flyer Chapter
END:VEVENT
BEGIN:VEVENT
DTSTART;TZID=America/New_York:20260211T150000
DTEND;TZID=America/New_York:20260211T160000
DTSTAMP:20260419T093134
CREATED:20260124T013526Z
LAST-MODIFIED:20260211T013702Z
UID:11881-1770822000-1770825600@classmgmt.com
SUMMARY:ET - NCMSLive Training Series: Ask the FSO (1 CEU Credit)
DESCRIPTION:PRESENTED BY: Catherine Kaohi\, CS Consulting\, Inc.Join us to learn industrial security updates and answers to questions posed by industrial security professionals.
URL:https://classmgmt.com/event/et-ncmslive-training-series-ask-the-fso-1-ceu-credit-10/
CATEGORIES:National
END:VEVENT
BEGIN:VEVENT
DTSTART;TZID=America/New_York:20260204T150000
DTEND;TZID=America/New_York:20260204T160000
DTSTAMP:20260419T093134
CREATED:20260124T013526Z
LAST-MODIFIED:20260204T013531Z
UID:11880-1770217200-1770220800@classmgmt.com
SUMMARY:ET - NCMSLive Training Series: Assuming the FSO Role (1 CEU Credit)
DESCRIPTION:PRESENTED BY: Catherine Kaohi\, CS Consulting\, Inc.PRESENTED BY: Catherine Kaohi\, CS Consulting\, Inc.Join us as we discuss what you need to do when assuming the FSO role. What needs to be done? Is there a particular order it needs to be done in? Are there already templates in place?
URL:https://classmgmt.com/event/et-ncmslive-training-series-assuming-the-fso-role-1-ceu-credit-2/
CATEGORIES:National
END:VEVENT
BEGIN:VEVENT
DTSTART;TZID=America/New_York:20260122T150000
DTEND;TZID=America/New_York:20260122T160000
DTSTAMP:20260419T093134
CREATED:20251222T203323Z
LAST-MODIFIED:20260122T013818Z
UID:11757-1769094000-1769097600@classmgmt.com
SUMMARY:ET - NCMSLive Training Series: CMMC Therapy Step 5 (1 CEU Credit)
DESCRIPTION:PRESENTED BY: Jim Goepel\, Ascend CyberWe’ve been discussing the CMMC process since August. Join us as we continue on our journey and discuss Step 5.
URL:https://classmgmt.com/event/et-ncmslive-training-series-cmmc-therapy-step-5-1-ceu-credit/
CATEGORIES:National
END:VEVENT
BEGIN:VEVENT
DTSTART;TZID=America/New_York:20260121T150000
DTEND;TZID=America/New_York:20260121T160000
DTSTAMP:20260419T093134
CREATED:20251222T203323Z
LAST-MODIFIED:20260121T013543Z
UID:11756-1769007600-1769011200@classmgmt.com
SUMMARY:IA - NCMSLive Training Series: Tech Talk (1 CEU Credit)
DESCRIPTION:PRESENTED BY: Kevin Newman\, GtegrityNo one discusses technology like Kevin Newman. Join us as he examines today’s top tech subjects in a way that only Kevin can.
URL:https://classmgmt.com/event/ia-ncmslive-training-series-tech-talk-1-ceu-credit-3/
CATEGORIES:National
END:VEVENT
END:VCALENDAR