BEGIN:VCALENDAR
VERSION:2.0
PRODID:-//NCMS - ECPv6.15.20//NONSGML v1.0//EN
CALSCALE:GREGORIAN
METHOD:PUBLISH
X-WR-CALNAME:NCMS
X-ORIGINAL-URL:https://classmgmt.com
X-WR-CALDESC:Events for NCMS
REFRESH-INTERVAL;VALUE=DURATION:PT1H
X-Robots-Tag:noindex
X-PUBLISHED-TTL:PT1H
BEGIN:VTIMEZONE
TZID:America/New_York
BEGIN:DAYLIGHT
TZOFFSETFROM:-0500
TZOFFSETTO:-0400
TZNAME:EDT
DTSTART:20250309T070000
END:DAYLIGHT
BEGIN:STANDARD
TZOFFSETFROM:-0400
TZOFFSETTO:-0500
TZNAME:EST
DTSTART:20251102T060000
END:STANDARD
BEGIN:DAYLIGHT
TZOFFSETFROM:-0500
TZOFFSETTO:-0400
TZNAME:EDT
DTSTART:20260308T070000
END:DAYLIGHT
BEGIN:STANDARD
TZOFFSETFROM:-0400
TZOFFSETTO:-0500
TZNAME:EST
DTSTART:20261101T060000
END:STANDARD
BEGIN:DAYLIGHT
TZOFFSETFROM:-0500
TZOFFSETTO:-0400
TZNAME:EDT
DTSTART:20270314T070000
END:DAYLIGHT
BEGIN:STANDARD
TZOFFSETFROM:-0400
TZOFFSETTO:-0500
TZNAME:EST
DTSTART:20271107T060000
END:STANDARD
END:VTIMEZONE
BEGIN:VEVENT
DTSTART;TZID=America/New_York:20260514T100000
DTEND;TZID=America/New_York:20260514T120000
DTSTAMP:20260419T081352
CREATED:20260203T013558Z
LAST-MODIFIED:20260419T013606Z
UID:11939-1778752800-1778760000@classmgmt.com
SUMMARY:Quarter 2 Meeting
DESCRIPTION:
URL:https://classmgmt.com/event/quarter-2-meeting/
CATEGORIES:Chapter,Wright Flyer Chapter
END:VEVENT
BEGIN:VEVENT
DTSTART;TZID=America/New_York:20260514T150000
DTEND;TZID=America/New_York:20260514T160000
DTSTAMP:20260419T081352
CREATED:20260408T013720Z
LAST-MODIFIED:20260419T013606Z
UID:12163-1778770800-1778774400@classmgmt.com
SUMMARY:NCMSLive: Academia Security (1 CEU Credit)
DESCRIPTION:PRESENTED BY: Brian Quenette\, University of MissouriPRESENTED BY: Brian Quenette\, University of MissouriJoin us as we discuss the nuances of Academia Security.
URL:https://classmgmt.com/event/ncmslive-academia-security-1-ceu-credit/
CATEGORIES:National
END:VEVENT
BEGIN:VEVENT
DTSTART;TZID=America/New_York:20260519T150000
DTEND;TZID=America/New_York:20260519T160000
DTSTAMP:20260419T081352
CREATED:20260408T013720Z
LAST-MODIFIED:20260419T013606Z
UID:12164-1779202800-1779206400@classmgmt.com
SUMMARY:NCMSLive: Associate Member Capabilities Briefing: SecureStrux (0 CEU Credits)
DESCRIPTION:PRESENTED BY: James Hayward\, SecureStrux\, LLCJoin us to find out what Secure Strux is all about and how it could assist your company.
URL:https://classmgmt.com/event/ncmslive-associate-member-capabilities-briefing-securestrux-0-ceu-credits/
CATEGORIES:National
END:VEVENT
BEGIN:VEVENT
DTSTART;TZID=America/New_York:20260520T000000
DTEND;TZID=America/New_York:20260520T000000
DTSTAMP:20260419T081352
CREATED:20251125T143345Z
LAST-MODIFIED:20260419T013606Z
UID:11683-1779235200-1779235200@classmgmt.com
SUMMARY:CH26 26Q2 - Chesapeake Bay Chapter Quarterly Meeting
DESCRIPTION:CH26 26Q2 – Chesapeake Bay Chapter Quarterly Meeting
URL:https://classmgmt.com/event/ch26-26q2-chesapeake-bay-chapter-quarterly-meeting/
CATEGORIES:Chapter,Chesapeake Bay Chapter
END:VEVENT
BEGIN:VEVENT
DTSTART;TZID=America/New_York:20260520T100000
DTEND;TZID=America/New_York:20260520T120000
DTSTAMP:20260419T081352
CREATED:20260210T013944Z
LAST-MODIFIED:20260419T013606Z
UID:11963-1779271200-1779278400@classmgmt.com
SUMMARY:CH 70 Ocmulgee - Training & Member Meeting
DESCRIPTION:CH 70 Ocmulgee – Training & Member Meeting
URL:https://classmgmt.com/event/ch-70-ocmulgee-training-member-meeting-2/
CATEGORIES:Chapter,Ocmulgee Region Chapter
END:VEVENT
BEGIN:VEVENT
DTSTART;TZID=America/New_York:20260520T150000
DTEND;TZID=America/New_York:20260520T160000
DTSTAMP:20260419T081352
CREATED:20260408T013720Z
LAST-MODIFIED:20260419T013606Z
UID:12165-1779289200-1779292800@classmgmt.com
SUMMARY:NCMSLive: Tech Talk (1 CEU Credit)
DESCRIPTION:PRESENTED BY: Kevin Newman\, GtegrityJoin us to find out what’s new in the ISSM world.
URL:https://classmgmt.com/event/ncmslive-tech-talk-1-ceu-credit/
CATEGORIES:National
END:VEVENT
BEGIN:VEVENT
DTSTART;TZID=America/New_York:20260521T000000
DTEND;TZID=America/New_York:20260521T000000
DTSTAMP:20260419T081352
CREATED:20260224T013629Z
LAST-MODIFIED:20260419T013606Z
UID:12012-1779321600-1779321600@classmgmt.com
SUMMARY:Northwest California Chapter Meeting
DESCRIPTION:Save the date – More information coming soon!
URL:https://classmgmt.com/event/northwest-california-chapter-meeting-5/
CATEGORIES:Chapter,Northwest California Chapter
END:VEVENT
BEGIN:VEVENT
DTSTART;TZID=America/New_York:20260521T150000
DTEND;TZID=America/New_York:20260521T160000
DTSTAMP:20260419T081352
CREATED:20260408T013720Z
LAST-MODIFIED:20260419T013606Z
UID:12166-1779375600-1779379200@classmgmt.com
SUMMARY:NCMSLive: 62nd NCMS National Seminar (0 CEU Credits)
DESCRIPTION:PRESENTED BY: Stevie Dahl\, The Act One Group of Companies and Sarah Turner\, North GrummanJoin us as we learn the final tweaks that have been done to the seminar and what to expect!
URL:https://classmgmt.com/event/ncmslive-62nd-ncms-national-seminar-0-ceu-credits-2/
CATEGORIES:National
END:VEVENT
BEGIN:VEVENT
DTSTART;TZID=America/New_York:20260527T150000
DTEND;TZID=America/New_York:20260527T160000
DTSTAMP:20260419T081352
CREATED:20260408T013720Z
LAST-MODIFIED:20260419T013606Z
UID:12167-1779894000-1779897600@classmgmt.com
SUMMARY:NCMSLive: Export Regulations (1 CEU Credit)
DESCRIPTION:PRESENTED BY: Cesar Reyna\, Trade Consulting Services\, LLCAfter the international deal is done\, the next step involves the delivery of goods and services across borders\, as well as making and receiving payments for those goods and services. Join us and learn how to mitigate these actions correctly.
URL:https://classmgmt.com/event/ncmslive-export-regulations-1-ceu-credit/
CATEGORIES:National
END:VEVENT
BEGIN:VEVENT
DTSTART;TZID=America/New_York:20260528T110000
DTEND;TZID=America/New_York:20260528T130000
DTSTAMP:20260419T081352
CREATED:20260107T143326Z
LAST-MODIFIED:20260419T013606Z
UID:11802-1779966000-1779973200@classmgmt.com
SUMMARY:Quarter 2 Chapter Meeting
DESCRIPTION:Agenda:\n11:00 AM – 11:16 AM | Opening Remarks\n11:16 AM – 11:56 AM | Pending – LMCO (CI- Traveling Abroad Updates & Trends)\n11:56 AM – 12:06 PM | Break\n12:06 PM – 12:46 PM | Cecilia Martinez – L3Harris (Cyber- How to clean a spillage)\n12:46 PM – 1:00 PM | Chapter Business \nRegistration link and lunch options are pending…
URL:https://classmgmt.com/event/quarter-2-chapter-meeting-3/
CATEGORIES:Chapter,Greater Dallas/Fort Worth Chapter
END:VEVENT
BEGIN:VEVENT
DTSTART;TZID=America/New_York:20260528T150000
DTEND;TZID=America/New_York:20260528T160000
DTSTAMP:20260419T081352
CREATED:20260409T013852Z
LAST-MODIFIED:20260419T013606Z
UID:12184-1779980400-1779984000@classmgmt.com
SUMMARY:NCMSLive: 62nd NCMS National Seminar App (0 CEU Credits)
DESCRIPTION:PRESENTED BY: Curtis Chappell\, Thales Defense and Security Kyle Fernley\, MMCo James Worthington\, MMCoJoin us as we discover what’s new with this year’s NCMS Seminar App! If you’re attending this year’s seminar\, this is not to be missed!
URL:https://classmgmt.com/event/ncmslive-62nd-ncms-national-seminar-app-0-ceu-credits-2/
CATEGORIES:National
END:VEVENT
BEGIN:VEVENT
DTSTART;TZID=America/New_York:20260715T110000
DTEND;TZID=America/New_York:20260715T130000
DTSTAMP:20260419T081352
CREATED:20260324T013532Z
LAST-MODIFIED:20260419T013606Z
UID:12129-1784113200-1784120400@classmgmt.com
SUMMARY:NCMS ROCKY MOUNTAIN CHAPTER QUARTERLY MEETING
DESCRIPTION:Check back for events to come on this quarterly meeting!  \nSouthern Colorado Meeting details:\nNo VAR required\nLockheed Martin RMS\n9970 Federal Drive\nColorado Springs\, CO 80921 \nPayton Dillahunty\nFacility Security Officer\, CAGE 60854\nLockheed Martin Corporation\nOffice: 719-277-4794\nMobile: 719-339-2810
URL:https://classmgmt.com/event/ncms-rocky-mountain-chapter-quarterly-meeting/
CATEGORIES:Chapter,Rocky Mountain Chapter
END:VEVENT
BEGIN:VEVENT
DTSTART;TZID=America/New_York:20260721T000000
DTEND;TZID=America/New_York:20260721T000000
DTSTAMP:20260419T081352
CREATED:20260224T013629Z
LAST-MODIFIED:20260419T013606Z
UID:12013-1784592000-1784592000@classmgmt.com
SUMMARY:Northwest California Chapter Meeting
DESCRIPTION:Save the Date!
URL:https://classmgmt.com/event/northwest-california-chapter-meeting-6/
CATEGORIES:Chapter,Northwest California Chapter
END:VEVENT
BEGIN:VEVENT
DTSTART;TZID=America/New_York:20260813T100000
DTEND;TZID=America/New_York:20260813T120000
DTSTAMP:20260419T081352
CREATED:20260210T013944Z
LAST-MODIFIED:20260419T013606Z
UID:11964-1786615200-1786622400@classmgmt.com
SUMMARY:CH 70 Ocmulgee - Training & Member Meeting
DESCRIPTION:CH 70 Ocmulgee – Training & Member Meeting
URL:https://classmgmt.com/event/ch-70-ocmulgee-training-member-meeting-3/
CATEGORIES:Chapter,Ocmulgee Region Chapter
END:VEVENT
BEGIN:VEVENT
DTSTART;TZID=America/New_York:20260819T000000
DTEND;TZID=America/New_York:20260819T000000
DTSTAMP:20260419T081352
CREATED:20251125T143345Z
LAST-MODIFIED:20260419T013606Z
UID:11684-1787097600-1787097600@classmgmt.com
SUMMARY:CH26 26Q3 - Chesapeake Bay Chapter Quarterly Meeting
DESCRIPTION:CH26 26Q3 – Chesapeake Bay Chapter Quarterly Meeting
URL:https://classmgmt.com/event/ch26-26q3-chesapeake-bay-chapter-quarterly-meeting/
CATEGORIES:Chapter,Chesapeake Bay Chapter
END:VEVENT
BEGIN:VEVENT
DTSTART;TZID=America/New_York:20260819T000000
DTEND;TZID=America/New_York:20260819T000000
DTSTAMP:20260419T081352
CREATED:20260102T173237Z
LAST-MODIFIED:20260419T013606Z
UID:11772-1787097600-1787097600@classmgmt.com
SUMMARY:NCMS Lone Star Chapter Meeting - August 2026
DESCRIPTION:Save the date for our Chapter Meeting on Wednesday\, August 19!  We are pleased to offer you an in-person Chapter Meeting. \nMore information coming soon!
URL:https://classmgmt.com/event/ncms-lone-star-chapter-meeting-august-2026/
CATEGORIES:Chapter,Lone Star Chapter
END:VEVENT
BEGIN:VEVENT
DTSTART;TZID=America/New_York:20260820T110000
DTEND;TZID=America/New_York:20260820T120000
DTSTAMP:20260419T081352
CREATED:20260410T014033Z
LAST-MODIFIED:20260419T013606Z
UID:12190-1787223600-1787227200@classmgmt.com
SUMMARY:Northwest California Chapter Networking Lunch
DESCRIPTION:
URL:https://classmgmt.com/event/northwest-california-chapter-networking-lunch-2/
CATEGORIES:Chapter,Northwest California Chapter
END:VEVENT
BEGIN:VEVENT
DTSTART;TZID=America/New_York:20260826T083000
DTEND;TZID=America/New_York:20260826T153000
DTSTAMP:20260419T081352
CREATED:20260320T013657Z
LAST-MODIFIED:20260419T013606Z
UID:12119-1787733000-1787758200@classmgmt.com
SUMMARY:ROCKY MOUNTAIN CHAPTER WITH DCSA INDUSTRY DAY
DESCRIPTION:In work. Look for additional details down the line.
URL:https://classmgmt.com/event/rocky-mountain-chapter-with-dcsa-industry-day/
CATEGORIES:Chapter,Rocky Mountain Chapter
END:VEVENT
BEGIN:VEVENT
DTSTART;TZID=America/New_York:20260827T110000
DTEND;TZID=America/New_York:20260827T130000
DTSTAMP:20260419T081352
CREATED:20260107T173232Z
LAST-MODIFIED:20260419T013606Z
UID:11808-1787828400-1787835600@classmgmt.com
SUMMARY:Quarter 3 Chapter Meeting
DESCRIPTION:Agenda:\n1. DCSA Update – Chris Flitcraft\n2. Security Program Management
URL:https://classmgmt.com/event/quarter-3-chapter-meeting-2/
CATEGORIES:Chapter,Greater Dallas/Fort Worth Chapter
END:VEVENT
BEGIN:VEVENT
DTSTART;TZID=America/New_York:20260917T100000
DTEND;TZID=America/New_York:20260917T120000
DTSTAMP:20260419T081352
CREATED:20260203T013558Z
LAST-MODIFIED:20260419T013606Z
UID:11940-1789639200-1789646400@classmgmt.com
SUMMARY:Quarter 3 Meeting
DESCRIPTION:
URL:https://classmgmt.com/event/quarter-3-meeting/
CATEGORIES:Chapter,Wright Flyer Chapter
END:VEVENT
BEGIN:VEVENT
DTSTART;TZID=America/New_York:20260924T000000
DTEND;TZID=America/New_York:20260924T000000
DTSTAMP:20260419T081352
CREATED:20260224T013629Z
LAST-MODIFIED:20260419T013606Z
UID:12014-1790208000-1790208000@classmgmt.com
SUMMARY:Northwest California Chapter Meeting
DESCRIPTION:Save the Date!
URL:https://classmgmt.com/event/northwest-california-chapter-meeting-7/
CATEGORIES:Chapter,Northwest California Chapter
END:VEVENT
BEGIN:VEVENT
DTSTART;TZID=America/New_York:20261022T000000
DTEND;TZID=America/New_York:20261022T000000
DTSTAMP:20260419T081352
CREATED:20260224T013629Z
LAST-MODIFIED:20260419T013606Z
UID:12015-1792627200-1792627200@classmgmt.com
SUMMARY:Northwest California Chapter Meeting
DESCRIPTION:Save the Date!
URL:https://classmgmt.com/event/northwest-california-chapter-meeting-8/
CATEGORIES:Chapter,Northwest California Chapter
END:VEVENT
BEGIN:VEVENT
DTSTART;TZID=America/New_York:20261028T110000
DTEND;TZID=America/New_York:20261028T130000
DTSTAMP:20260419T081352
CREATED:20260102T173237Z
LAST-MODIFIED:20260419T013606Z
UID:11773-1793185200-1793192400@classmgmt.com
SUMMARY:NCMS Lone Star Chapter Meeting - October 2026
DESCRIPTION:Save the date for our Chapter Meeting on Wednesday\, October 28!  We are pleased to offer you a virtual Chapter Meeting. \nMore information coming soon!
URL:https://classmgmt.com/event/ncms-lone-star-chapter-meeting-october-2026/
CATEGORIES:Chapter,Lone Star Chapter
END:VEVENT
BEGIN:VEVENT
DTSTART;TZID=America/New_York:20261112T110000
DTEND;TZID=America/New_York:20261112T130000
DTSTAMP:20260419T081352
CREATED:20260107T173232Z
LAST-MODIFIED:20260419T013606Z
UID:11807-1794481200-1794488400@classmgmt.com
SUMMARY:Quarter 4 Chapter Meeting
DESCRIPTION:Agenda:\n1. COMSEC – Charles Wilson\n2. Artificial Intelligence – Jonathan Pyzynski
URL:https://classmgmt.com/event/quarter-4-chapter-meeting-3/
CATEGORIES:Chapter,Greater Dallas/Fort Worth Chapter
END:VEVENT
BEGIN:VEVENT
DTSTART;TZID=America/New_York:20261118T000000
DTEND;TZID=America/New_York:20261118T000000
DTSTAMP:20260419T081352
CREATED:20251125T143345Z
LAST-MODIFIED:20260419T013606Z
UID:11685-1794960000-1794960000@classmgmt.com
SUMMARY:CH26 26Q4 - Chesapeake Bay Chapter Annual Seminar
DESCRIPTION:CH26 26Q4 – Chesapeake Bay Chapter Annual Seminar
URL:https://classmgmt.com/event/ch26-26q4-chesapeake-bay-chapter-annual-seminar/
CATEGORIES:Chapter,Chesapeake Bay Chapter
END:VEVENT
BEGIN:VEVENT
DTSTART;TZID=America/New_York:20261119T110000
DTEND;TZID=America/New_York:20261119T120000
DTSTAMP:20260419T081352
CREATED:20260410T014033Z
LAST-MODIFIED:20260419T013606Z
UID:12191-1795086000-1795089600@classmgmt.com
SUMMARY:Northwest California Chapter Networking Lunch
DESCRIPTION:
URL:https://classmgmt.com/event/northwest-california-chapter-networking-lunch-3/
CATEGORIES:Chapter,Northwest California Chapter
END:VEVENT
BEGIN:VEVENT
DTSTART;TZID=America/New_York:20261209T000000
DTEND;TZID=America/New_York:20261209T000000
DTSTAMP:20260419T081352
CREATED:20260102T173237Z
LAST-MODIFIED:20260419T013606Z
UID:11774-1796774400-1796774400@classmgmt.com
SUMMARY:NCMS Lone Star Chapter Meeting - December 2026
DESCRIPTION:Save the date for our Chapter Meeting on Wednesday\, December 9!  We are pleased to offer you an in-person Chapter Meeting. \nMore information coming soon!
URL:https://classmgmt.com/event/ncms-lone-star-chapter-meeting-december-2026/
CATEGORIES:Chapter,Lone Star Chapter
END:VEVENT
BEGIN:VEVENT
DTSTART;TZID=America/New_York:20261210T000000
DTEND;TZID=America/New_York:20261210T000000
DTSTAMP:20260419T081352
CREATED:20260224T013629Z
LAST-MODIFIED:20260419T013606Z
UID:12016-1796860800-1796860800@classmgmt.com
SUMMARY:Northwest California Chapter Meeting
DESCRIPTION:Save the Date!
URL:https://classmgmt.com/event/northwest-california-chapter-meeting-9/
CATEGORIES:Chapter,Northwest California Chapter
END:VEVENT
END:VCALENDAR