BEGIN:VCALENDAR
VERSION:2.0
PRODID:-//NCMS - ECPv6.15.20//NONSGML v1.0//EN
CALSCALE:GREGORIAN
METHOD:PUBLISH
X-WR-CALNAME:NCMS
X-ORIGINAL-URL:https://classmgmt.com
X-WR-CALDESC:Events for NCMS
REFRESH-INTERVAL;VALUE=DURATION:PT1H
X-Robots-Tag:noindex
X-PUBLISHED-TTL:PT1H
BEGIN:VTIMEZONE
TZID:America/New_York
BEGIN:DAYLIGHT
TZOFFSETFROM:-0500
TZOFFSETTO:-0400
TZNAME:EDT
DTSTART:20240310T070000
END:DAYLIGHT
BEGIN:STANDARD
TZOFFSETFROM:-0400
TZOFFSETTO:-0500
TZNAME:EST
DTSTART:20241103T060000
END:STANDARD
BEGIN:DAYLIGHT
TZOFFSETFROM:-0500
TZOFFSETTO:-0400
TZNAME:EDT
DTSTART:20250309T070000
END:DAYLIGHT
BEGIN:STANDARD
TZOFFSETFROM:-0400
TZOFFSETTO:-0500
TZNAME:EST
DTSTART:20251102T060000
END:STANDARD
BEGIN:DAYLIGHT
TZOFFSETFROM:-0500
TZOFFSETTO:-0400
TZNAME:EDT
DTSTART:20260308T070000
END:DAYLIGHT
BEGIN:STANDARD
TZOFFSETFROM:-0400
TZOFFSETTO:-0500
TZNAME:EST
DTSTART:20261101T060000
END:STANDARD
BEGIN:DAYLIGHT
TZOFFSETFROM:-0500
TZOFFSETTO:-0400
TZNAME:EDT
DTSTART:20270314T070000
END:DAYLIGHT
BEGIN:STANDARD
TZOFFSETFROM:-0400
TZOFFSETTO:-0500
TZNAME:EST
DTSTART:20271107T060000
END:STANDARD
END:VTIMEZONE
BEGIN:VEVENT
DTSTART;TZID=America/New_York:20260212T110000
DTEND;TZID=America/New_York:20260212T130000
DTSTAMP:20260419T131316
CREATED:20260107T143326Z
LAST-MODIFIED:20260212T013542Z
UID:11803-1770894000-1770901200@classmgmt.com
SUMMARY:Quarter 1 Chapter Meeting
DESCRIPTION:11:00 AM – 11:16 AM | Opening Remarks\n11:16 AM – 11:56 AM | Chris Flitcraft & Deputy Region Misson Director  – DCSA (DCSA Updates)\n11:56 AM – 12:06 PM | Break\n12:06 PM – 12:46 PM | Jeremy Wendell – Northrop Grumman (Personnel Security)\n12:46 PM – 1:00 PM | Chapter Business \nThe registration link and lunch options are below: \nhttps://www.zeffy.com/en-US/ticketing/q1-greater-dfw-chapter-meeting
URL:https://classmgmt.com/event/quarter-1-chapter-meeting/
CATEGORIES:Chapter,Greater Dallas/Fort Worth Chapter
END:VEVENT
BEGIN:VEVENT
DTSTART;TZID=America/New_York:20260212T100000
DTEND;TZID=America/New_York:20260212T120000
DTSTAMP:20260419T131316
CREATED:20260203T013558Z
LAST-MODIFIED:20260212T013542Z
UID:11938-1770890400-1770897600@classmgmt.com
SUMMARY:Quarter 1 Meeting
DESCRIPTION:
URL:https://classmgmt.com/event/quarter-1-meeting/
CATEGORIES:Chapter,Wright Flyer Chapter
END:VEVENT
BEGIN:VEVENT
DTSTART;TZID=America/New_York:20260211T150000
DTEND;TZID=America/New_York:20260211T160000
DTSTAMP:20260419T131316
CREATED:20260124T013526Z
LAST-MODIFIED:20260211T013702Z
UID:11881-1770822000-1770825600@classmgmt.com
SUMMARY:ET - NCMSLive Training Series: Ask the FSO (1 CEU Credit)
DESCRIPTION:PRESENTED BY: Catherine Kaohi\, CS Consulting\, Inc.Join us to learn industrial security updates and answers to questions posed by industrial security professionals.
URL:https://classmgmt.com/event/et-ncmslive-training-series-ask-the-fso-1-ceu-credit-10/
CATEGORIES:National
END:VEVENT
BEGIN:VEVENT
DTSTART;TZID=America/New_York:20260204T150000
DTEND;TZID=America/New_York:20260204T160000
DTSTAMP:20260419T131316
CREATED:20260124T013526Z
LAST-MODIFIED:20260204T013531Z
UID:11880-1770217200-1770220800@classmgmt.com
SUMMARY:ET - NCMSLive Training Series: Assuming the FSO Role (1 CEU Credit)
DESCRIPTION:PRESENTED BY: Catherine Kaohi\, CS Consulting\, Inc.PRESENTED BY: Catherine Kaohi\, CS Consulting\, Inc.Join us as we discuss what you need to do when assuming the FSO role. What needs to be done? Is there a particular order it needs to be done in? Are there already templates in place?
URL:https://classmgmt.com/event/et-ncmslive-training-series-assuming-the-fso-role-1-ceu-credit-2/
CATEGORIES:National
END:VEVENT
BEGIN:VEVENT
DTSTART;TZID=America/New_York:20260122T150000
DTEND;TZID=America/New_York:20260122T160000
DTSTAMP:20260419T131316
CREATED:20251222T203323Z
LAST-MODIFIED:20260122T013818Z
UID:11757-1769094000-1769097600@classmgmt.com
SUMMARY:ET - NCMSLive Training Series: CMMC Therapy Step 5 (1 CEU Credit)
DESCRIPTION:PRESENTED BY: Jim Goepel\, Ascend CyberWe’ve been discussing the CMMC process since August. Join us as we continue on our journey and discuss Step 5.
URL:https://classmgmt.com/event/et-ncmslive-training-series-cmmc-therapy-step-5-1-ceu-credit/
CATEGORIES:National
END:VEVENT
BEGIN:VEVENT
DTSTART;TZID=America/New_York:20260121T150000
DTEND;TZID=America/New_York:20260121T160000
DTSTAMP:20260419T131316
CREATED:20251222T203323Z
LAST-MODIFIED:20260121T013543Z
UID:11756-1769007600-1769011200@classmgmt.com
SUMMARY:IA - NCMSLive Training Series: Tech Talk (1 CEU Credit)
DESCRIPTION:PRESENTED BY: Kevin Newman\, GtegrityNo one discusses technology like Kevin Newman. Join us as he examines today’s top tech subjects in a way that only Kevin can.
URL:https://classmgmt.com/event/ia-ncmslive-training-series-tech-talk-1-ceu-credit-3/
CATEGORIES:National
END:VEVENT
BEGIN:VEVENT
DTSTART;TZID=America/New_York:20260120T150000
DTEND;TZID=America/New_York:20260120T160000
DTSTAMP:20260419T131316
CREATED:20251222T203323Z
LAST-MODIFIED:20260120T014416Z
UID:11755-1768921200-1768924800@classmgmt.com
SUMMARY:SPECIAL - NCMSLive Training Series: Preveil (0 CEU Credits)
DESCRIPTION:PRESENTED BY: Dan Martel\, PreVeilPRESENTED BY: Dan Martel\, PreVeil CMMC is showing up as a standard requirement in more contracts and contractors that are not prepared risk missing future opportunities. Join PreVeil for a practical discussion of the current CMMC landscape and the proven playbook used by 50-plus defense contractors to achieve CMMC Level 2 success. Learn what works\, what to prioritize\, and how to approach compliance without unnecessary cost or complexity. This is a commercialized presentation. References to commercial products\, processes\, or services do not necessarily constitute an endorsement by NCMS\, Inc. The opinions and views expressed in this presentation and on any linked websites provided do not necessarily reflect those of NCMS.
URL:https://classmgmt.com/event/special-ncmslive-training-series-preveil-0-ceu-credits/
CATEGORIES:National
END:VEVENT
BEGIN:VEVENT
DTSTART;TZID=America/New_York:20260115T150000
DTEND;TZID=America/New_York:20260115T160000
DTSTAMP:20260419T131316
CREATED:20251222T203323Z
LAST-MODIFIED:20260115T014122Z
UID:11754-1768489200-1768492800@classmgmt.com
SUMMARY:SPECIAL - NCMSLive Training Series: ISP Recertification Application Walk Through (0 CEU Credits)
DESCRIPTION:PRESENTED BY: Deborah Belsinger\, SQURRL ConsultingThe ISP recertification process can be a little confusing for some. Join Deborah Belsinger as she discusses the process and provides best practices to ensure your recertification package is accepted the first time.
URL:https://classmgmt.com/event/special-ncmslive-training-series-isp-recertification-application-walk-through-0-ceu-credits/
CATEGORIES:National
END:VEVENT
BEGIN:VEVENT
DTSTART;TZID=America/New_York:20260114T150000
DTEND;TZID=America/New_York:20260114T160000
DTSTAMP:20260419T131316
CREATED:20251222T203323Z
LAST-MODIFIED:20260114T013707Z
UID:11753-1768402800-1768406400@classmgmt.com
SUMMARY:ET - NCMSLive Training Series: Ask the FSO (1 CEU Credit)
DESCRIPTION:PRESENTED BY: Catherine Kaohi\, ISP\, CS Consulting\, Inc.You provide us the questions about industrial security\, and we will provide the answers. Questions may be sent ahead of time to NCMSLive@classmgmt.com
URL:https://classmgmt.com/event/et-ncmslive-training-series-ask-the-fso-1-ceu-credit-9/
CATEGORIES:National
END:VEVENT
BEGIN:VEVENT
DTSTART;TZID=America/New_York:20260108T150000
DTEND;TZID=America/New_York:20260108T160000
DTSTAMP:20260419T131316
CREATED:20251222T233502Z
LAST-MODIFIED:20260108T043344Z
UID:11765-1767884400-1767888000@classmgmt.com
SUMMARY:SPECIAL - NCMSLive Training Series: What the FOCI (1 CEU Credit)
DESCRIPTION:PRESENTED BY: Tom Brewer\, TADPGS and Richard Ray\, EACOWTPRESENTED BY: Tom Brewer\, TADPGS and Richard Ray\, EACOWT In today’s business environment we are experiencing a heightened number of mergers and acquisitions. M and A activities bring different sets of challenges to the DIB and especially cleared industry. The complexities become even more challenging when factoring in FOCI concerns and the impacts to a cleared company. This briefing will provide you with a sense of the who\, what\, when\, how and why of FOCI merger and acquisition activities. A must listen for anyone interested in learning more about how going through the M and A process can impact your industrial security program\, with or without FOCI.
URL:https://classmgmt.com/event/special-ncmslive-training-series-what-the-foci-1-ceu-credit-5/
CATEGORIES:National
END:VEVENT
BEGIN:VEVENT
DTSTART;TZID=America/New_York:20260108T150000
DTEND;TZID=America/New_York:20260108T160000
DTSTAMP:20260419T131316
CREATED:20251222T203323Z
LAST-MODIFIED:20260102T173237Z
UID:11752-1767884400-1767888000@classmgmt.com
SUMMARY:SPECIAL - NCMSLive Training Series: What the FOCI (1 CEU Credit)
DESCRIPTION:PRESENTED BY: Tom Brewer\, TADPGS and Richard Ray\, EACOWTMitigating FOCI issues does not get any easier. Join two FOCI subject matter experts as they discuss FOCI.
URL:https://classmgmt.com/event/special-ncmslive-training-series-what-the-foci-1-ceu-credit-4/
CATEGORIES:National
END:VEVENT
BEGIN:VEVENT
DTSTART;TZID=America/New_York:20260108T093000
DTEND;TZID=America/New_York:20260108T143000
DTSTAMP:20260419T131316
CREATED:20260107T193245Z
LAST-MODIFIED:20260108T043345Z
UID:11811-1767864600-1767882600@classmgmt.com
SUMMARY:Q1 Chapter Meeting
DESCRIPTION:Chapter Meeting and Training Event including DCSA Regional AO Alex Hubert\, CI Presentation with Dan Coons Central PA FBI
URL:https://classmgmt.com/event/q1-chapter-meeting/
CATEGORIES:Appalachian Chapter,Chapter
END:VEVENT
BEGIN:VEVENT
DTSTART;TZID=America/New_York:20260107T150000
DTEND;TZID=America/New_York:20260107T160000
DTSTAMP:20260419T131316
CREATED:20251222T203323Z
LAST-MODIFIED:20260107T043456Z
UID:11751-1767798000-1767801600@classmgmt.com
SUMMARY:ET - NCMSLive Training Series: CUI Resources and Websites (1 CEU Credit)
DESCRIPTION:PRESENTED BY: Richard Rayner\, DCSAJoin us as Richard Rayner\, from the ESO office at DCSA discusses the CUI Resources and Websites that are available to assist us in handling CUI at our facility.
URL:https://classmgmt.com/event/et-ncmslive-training-series-cui-resources-and-websites-1-ceu-credit-2/
CATEGORIES:National
END:VEVENT
BEGIN:VEVENT
DTSTART;TZID=America/New_York:20251217T150000
DTEND;TZID=America/New_York:20251217T160000
DTSTAMP:20260419T131316
CREATED:20251124T203238Z
LAST-MODIFIED:20251217T043502Z
UID:11678-1765983600-1765987200@classmgmt.com
SUMMARY:ET - NCMSLive Training Series: The Security Reality Check: Testing for Gaps Before Attackers Do (1 CEU Credit)
DESCRIPTION:PRESENTED BY: Catherine Kaohi\, ISP\, CS Consulting\, Inc.You’ve spent hours and hours building a strong security program but does it work? Have you ever tested it to see where\, if any\, your shortfalls are? Join us as we discuss ways to test your security program.
URL:https://classmgmt.com/event/et-ncmslive-training-series-the-security-reality-check-testing-for-gaps-before-attackers-do-1-ceu-credit/
CATEGORIES:National
END:VEVENT
BEGIN:VEVENT
DTSTART;TZID=America/New_York:20251212T110000
DTEND;TZID=America/New_York:20251212T140000
DTSTAMP:20260419T131316
CREATED:20250408T190001Z
LAST-MODIFIED:20251211T233322Z
UID:6806-1765537200-1765548000@classmgmt.com
SUMMARY:NCMS Lone Star Chapter Meeting - December 2025
DESCRIPTION:We are pleased to offer you an in person Chapter Meeting – at The Texas A&M University System (TAMUS) Research Security Office (RSO)\, in College Station\, TX! \nAgenda:\n11:00am – 11:30am  Arrival\, Check-In\, Networking\, and Lunch\n11:30am – 11:45am  Chapter Business\n11:45am – 12:45pm  NSPM-33 Introductory Briefing\n12:45pm – 1:00pm  Break\n1:00pm – 2:00pm  DCSA Classified Trends Briefing \nLauren Schroeder is the Executive Director\, System Export Control Office for TAMUS RSO.  She will present NSPM-33 Introductory Briefing.  NSPM-33 is a U.S. presidential memorandum that requires federal research agencies to strengthen and standardize disclosure requirements for federally funded awards and mandates research institutions receiving significant federal funds to establish research security programs. \nAna Carolina Vega is a Special Agent\, Counterintelligence of the San Antonio Field Office.  Carolina will provide the classified presentation on 2025 Targeting US Technologies: An Assessment of Threats to Cleared Industry. \nThis is a limited capacity opportunity for 60\, so register now!  After you register\, you will receive parking information and visit request instructions.
URL:https://classmgmt.com/event/ncms-lone-star-chapter-meeting-december-2025/
CATEGORIES:Chapter,Lone Star Chapter
END:VEVENT
BEGIN:VEVENT
DTSTART;TZID=America/New_York:20251211T150000
DTEND;TZID=America/New_York:20251211T160000
DTSTAMP:20260419T131316
CREATED:20251124T203238Z
LAST-MODIFIED:20251211T043249Z
UID:11677-1765465200-1765468800@classmgmt.com
SUMMARY:ET - NCMSLive Training Series: Industry Self-Approval Process of Open Storage Areas (1 CEU Credit)
DESCRIPTION:PRESENTED BY: Bradley Whitfield\, DCSAThe self-approval process for open storage areas involves several key steps to ensure compliance with industry standards and regulations. Join us as we discuss the policy and the steps involved.
URL:https://classmgmt.com/event/et-ncmslive-training-series-industry-self-approval-process-of-open-storage-areas-1-ceu-credit/
CATEGORIES:National
END:VEVENT
BEGIN:VEVENT
DTSTART;TZID=America/New_York:20251211T110000
DTEND;TZID=America/New_York:20251211T123000
DTSTAMP:20260419T131316
CREATED:20250408T190002Z
LAST-MODIFIED:20251211T043249Z
UID:6830-1765450800-1765456200@classmgmt.com
SUMMARY:Northwest California Chapter Meeting/Luncheon
DESCRIPTION:
URL:https://classmgmt.com/event/northwest-california-chapter-meeting-luncheon/
CATEGORIES:Chapter,Northwest California Chapter
END:VEVENT
BEGIN:VEVENT
DTSTART;TZID=America/New_York:20251211T100000
DTEND;TZID=America/New_York:20251211T150000
DTSTAMP:20260419T131316
CREATED:20251119T193239Z
LAST-MODIFIED:20251211T043249Z
UID:11660-1765447200-1765465200@classmgmt.com
SUMMARY:Carolina Chapter Q4 NCMS Meeting
DESCRIPTION:(IN-PERSON ONLY EVENT) \nNCMS Carolina Chapter Q4 Meeting 2025 \nJoin us as we gather for the final quarterly meeting of the year. This session will delve into the heart of today’s security challenges\, focusing on the role of insider threats and challenges in our industry. Our commitment to education\, networking\, and advocacy brings professionals together to share insights and strengthen their expertise. \nAttendees will experience: \nInsightful discussions with our Government Partners .\nOpportunities to exchange ideas with fellow security professionals.\nYour participation is vital as we navigate and face these security issues together. \nAdditional information and registration can be found here https://www.zeffy.com/en-US/ticketing/ncms-carolina-chapter-q4-meeting–2025
URL:https://classmgmt.com/event/carolina-chapter-q4-ncms-meeting/
CATEGORIES:Carolina Chapter,Chapter
END:VEVENT
BEGIN:VEVENT
DTSTART;TZID=America/New_York:20251210T150000
DTEND;TZID=America/New_York:20251210T160000
DTSTAMP:20260419T131316
CREATED:20251124T203238Z
LAST-MODIFIED:20251210T043334Z
UID:11676-1765378800-1765382400@classmgmt.com
SUMMARY:ET - NCMSLive Training Series: Ask the FSO (1 CEU Credit)
DESCRIPTION:PRESENTED BY: Catherine Kaohi\, ISP\, CS Consulting\, Inc.You provide us with the questions about industrial security\, and we will provide the answers. Questions may be sent ahead of time to NCMSLive@classmgmt.com.
URL:https://classmgmt.com/event/et-ncmslive-training-series-ask-the-fso-1-ceu-credit-8/
CATEGORIES:National
END:VEVENT
BEGIN:VEVENT
DTSTART;TZID=America/New_York:20251210T110000
DTEND;TZID=America/New_York:20251210T140000
DTSTAMP:20260419T131316
CREATED:20251120T193239Z
LAST-MODIFIED:20251210T043334Z
UID:11663-1765364400-1765375200@classmgmt.com
SUMMARY:NCMS Alamo Chapter Christmas Meeting
DESCRIPTION:We are pleased to announce our December Christmas meeting is scheduled for Wednesday\, December 10\, 2025\, at Paesanos 1604. We hope you’ll join us for this special event. \nPlease refer to the attached flyer for details\, including the RSVP link and sponsorship opportunities. \nShould you have any questions\, please do not hesitate to contact me or any member of the chapter board: Nick Meyer (Treasurer)\, Sami Riddle (Secretary)\, or David Poblano (Vice Chair).
URL:https://classmgmt.com/event/ncms-alamo-chapter-christmas-meeting/
CATEGORIES:Alamo Chapter,Chapter
END:VEVENT
BEGIN:VEVENT
DTSTART;TZID=America/New_York:20251209T150000
DTEND;TZID=America/New_York:20251209T160000
DTSTAMP:20260419T131316
CREATED:20251124T193237Z
LAST-MODIFIED:20251209T043407Z
UID:11673-1765292400-1765296000@classmgmt.com
SUMMARY:ET - NCMSLive Training Series: NCMS Awards (0 CEU Credits)
DESCRIPTION:PRESENTED BY: Kari Phillips\, ISP\, SAICIs there someone in NCMS that you think goes above and beyond and deserves recognition? This presentation will take you through the myriad of NCMS Awards available that you can submit your deserving peers to receive.
URL:https://classmgmt.com/event/et-ncmslive-training-series-ncms-awards-0-ceu-credits/
CATEGORIES:National
END:VEVENT
BEGIN:VEVENT
DTSTART;TZID=America/New_York:20251204T110000
DTEND;TZID=America/New_York:20251204T013000
DTSTAMP:20260419T131316
CREATED:20251103T203232Z
LAST-MODIFIED:20251204T043241Z
UID:11618-1764846000-1764811800@classmgmt.com
SUMMARY:IA - NCMSLive Training Series: The Cyber AB Town Hall (1 CEU Credit)
DESCRIPTION:Join us for an in-person holiday meeting at Timberwood Tap House.  Celebrate the season with your security counterparts while we have lunch\, play Dirty Santa\, and brief on Holiday Safety Tips and Foreign Travel.
URL:https://classmgmt.com/event/ia-ncmslive-training-series-the-cyber-ab-town-hall-1-ceu-credit-7/
CATEGORIES:Central VA Chapter,Chapter,National
END:VEVENT
BEGIN:VEVENT
DTSTART;TZID=America/New_York:20251203T150000
DTEND;TZID=America/New_York:20251203T170000
DTSTAMP:20260419T131316
CREATED:20250408T190002Z
LAST-MODIFIED:20251203T043242Z
UID:6825-1764774000-1764781200@classmgmt.com
SUMMARY:NCMS PIKES PEAK CHAPTER 4th QUARTER CHAPTER MEETING
DESCRIPTION:NCMS Rocky Mountain Chapter 4th Quarter Chapter Meeting\nIn person meeting\no   Export Controlled Items and the Afghanistan Drawn Down – Kevin Cannon\no   30 Minute Networking Break\no   CASA Toy drive.
URL:https://classmgmt.com/event/ncms-pikes-peak-chapter-4th-quarter-chapter-meeting/
CATEGORIES:Chapter,Pikes Peak Chapter
END:VEVENT
BEGIN:VEVENT
DTSTART;TZID=America/New_York:20251203T150000
DTEND;TZID=America/New_York:20251203T160000
DTSTAMP:20260419T131316
CREATED:20251124T193237Z
LAST-MODIFIED:20251203T043242Z
UID:11672-1764774000-1764777600@classmgmt.com
SUMMARY:ET - NCMSLive Training Series: CMMC Therapy - The 12 Step Program - Step 4 - Defining the Scope (1 CEU Credit)
DESCRIPTION:PRESENTED BY: Jim Goepel\, Ascend CyberWe’ve come a long way in a few short months and we’ve collected the core information we need. But before we dive into a gap analysis\, we need to define the scope of that analysis. In this session\, we will explore the role of scoping and a variety of factors to consider when establishing the scope of your assessed system. We will also explore the differences in the nature of the assessment that will be performed on different components of the system based on the categories we previously assigned to them. This includes the role cloud services and managed service providers will need to play in your assessment if they are in scope and the information you will need from them.
URL:https://classmgmt.com/event/et-ncmslive-training-series-cmmc-therapy-the-12-step-program-step-4-defining-the-scope-1-ceu-credit/
CATEGORIES:National
END:VEVENT
BEGIN:VEVENT
DTSTART;TZID=America/New_York:20251203T120000
DTEND;TZID=America/New_York:20251203T133000
DTSTAMP:20260419T131316
CREATED:20251028T133254Z
LAST-MODIFIED:20251203T043242Z
UID:11595-1764763200-1764768600@classmgmt.com
SUMMARY:New England Chapter December Learn at Lunch (DAAG/Business Meeting)
DESCRIPTION:Join us for our December 2025 virtual learn at lunch meeting.\nLynn Burns\, Quantum Research International\, will present "A Review of the DCSA DAAG".\nDoris Parr\, Chapter Chair\, will conduct chapter business along with installation of officers.
URL:https://classmgmt.com/event/new-england-chapter-december-learn-at-lunch-daag-business-meeting/
CATEGORIES:Chapter,New England Chapter
END:VEVENT
BEGIN:VEVENT
DTSTART;TZID=America/New_York:20251202T140000
DTEND;TZID=America/New_York:20251202T150000
DTSTAMP:20260419T131316
CREATED:20250626T205830Z
LAST-MODIFIED:20251202T043236Z
UID:10804-1764684000-1764687600@classmgmt.com
SUMMARY:Alarms\, Guards\, and More
DESCRIPTION:Physical Security Class: Alarms\, Guards\, and More\, presented by SPG Incorporated
URL:https://classmgmt.com/event/alarms-guards-and-more/
CATEGORIES:Chapter,Pikes Peak Chapter
END:VEVENT
BEGIN:VEVENT
DTSTART;TZID=America/New_York:20251125T150000
DTEND;TZID=America/New_York:20251125T160000
DTSTAMP:20260419T131316
CREATED:20251103T203232Z
LAST-MODIFIED:20251125T043258Z
UID:11617-1764082800-1764086400@classmgmt.com
SUMMARY:ET - NCMSLive Training Series: Cleaning Up Your DISS Hierarchy (1 CEU Credit)
DESCRIPTION:PRESENTED BY: Mike Ray\, Persecpros\, Nick Levasseur\, PersecprosYou need to ensure your DISS Hierarchy is updated properly to ensure that future updates to DISS continue to work. Join us and learn how to clean up your hierarchy and a few other tricks that you may find useful!
URL:https://classmgmt.com/event/et-ncmslive-training-series-cleaning-up-your-diss-hierarchy-1-ceu-credit/
CATEGORIES:National
END:VEVENT
BEGIN:VEVENT
DTSTART;TZID=America/New_York:20251120T150000
DTEND;TZID=America/New_York:20251120T160000
DTSTAMP:20260419T131316
CREATED:20251103T203232Z
LAST-MODIFIED:20251120T043502Z
UID:11616-1763650800-1763654400@classmgmt.com
SUMMARY:US - NCMSLive Training Series: Academia Security (1 CEU Credit)
DESCRIPTION:PRESENTED BY: Brian Quenette\, University of Missouri\, Melissa Shaw\, The Ohio State University\, Steve Schrimpf\, University of South CarolinaThree members of our Academia Industrial Security side join us to discuss the latest in Academic Security.
URL:https://classmgmt.com/event/us-ncmslive-training-series-academia-security-1-ceu-credit/
CATEGORIES:National
END:VEVENT
BEGIN:VEVENT
DTSTART;TZID=America/New_York:20251119T150000
DTEND;TZID=America/New_York:20251119T160000
DTSTAMP:20260419T131316
CREATED:20251103T203232Z
LAST-MODIFIED:20251119T043410Z
UID:11615-1763564400-1763568000@classmgmt.com
SUMMARY:IA - NCMSLive Training Series: Tech Talk (1 CEU Credit)
DESCRIPTION:PRESENTED BY: Kevin Newman\, GtegrityJoin our tech Subject Matter Expert as we discuss tech interest items and threats. We’ll also discuss security for your home\, family\, and work environments.
URL:https://classmgmt.com/event/ia-ncmslive-training-series-tech-talk-1-ceu-credit-2/
CATEGORIES:National
END:VEVENT
BEGIN:VEVENT
DTSTART;TZID=America/New_York:20251113T113000
DTEND;TZID=America/New_York:20251113T130000
DTSTAMP:20260419T131316
CREATED:20250408T190002Z
LAST-MODIFIED:20251113T043502Z
UID:6821-1763033400-1763038800@classmgmt.com
SUMMARY:Quarter 4 - Emerald Coast Chapter Meeting
DESCRIPTION:Save the date for our Chapter Meeting on Thursday\, November 13\, 2025.  \nMore information coming soon!
URL:https://classmgmt.com/event/quarter-4-emerald-coast-chapter-meeting/
CATEGORIES:Chapter,Emerald Coast Chapter
END:VEVENT
END:VCALENDAR