BEGIN:VCALENDAR
VERSION:2.0
PRODID:-//NCMS - ECPv6.15.20//NONSGML v1.0//EN
CALSCALE:GREGORIAN
METHOD:PUBLISH
X-WR-CALNAME:NCMS
X-ORIGINAL-URL:https://classmgmt.com
X-WR-CALDESC:Events for NCMS
REFRESH-INTERVAL;VALUE=DURATION:PT1H
X-Robots-Tag:noindex
X-PUBLISHED-TTL:PT1H
BEGIN:VTIMEZONE
TZID:America/New_York
BEGIN:DAYLIGHT
TZOFFSETFROM:-0500
TZOFFSETTO:-0400
TZNAME:EDT
DTSTART:20240310T070000
END:DAYLIGHT
BEGIN:STANDARD
TZOFFSETFROM:-0400
TZOFFSETTO:-0500
TZNAME:EST
DTSTART:20241103T060000
END:STANDARD
BEGIN:DAYLIGHT
TZOFFSETFROM:-0500
TZOFFSETTO:-0400
TZNAME:EDT
DTSTART:20250309T070000
END:DAYLIGHT
BEGIN:STANDARD
TZOFFSETFROM:-0400
TZOFFSETTO:-0500
TZNAME:EST
DTSTART:20251102T060000
END:STANDARD
BEGIN:DAYLIGHT
TZOFFSETFROM:-0500
TZOFFSETTO:-0400
TZNAME:EDT
DTSTART:20260308T070000
END:DAYLIGHT
BEGIN:STANDARD
TZOFFSETFROM:-0400
TZOFFSETTO:-0500
TZNAME:EST
DTSTART:20261101T060000
END:STANDARD
END:VTIMEZONE
BEGIN:VEVENT
DTSTART;TZID=America/New_York:20251028T100000
DTEND;TZID=America/New_York:20251028T130000
DTSTAMP:20260419T205428
CREATED:20250926T173333Z
LAST-MODIFIED:20251028T033502Z
UID:11465-1761645600-1761656400@classmgmt.com
SUMMARY:NCMS PNW Chapter 19 Q4 Meeting
DESCRIPTION:NCMS Pacific Northwest Chapter 19’s 4th quarter chapter meeting to include two hours of training\, followed by chapter business and installation of officers.  The first speaker is Kari Bishop\, NCMS PNW Chapter Newsletter Chair\, Microsoft Corporate FSO and SETA Manager. She will be speaking about helping you formulate strategies to increase security participation and compliance. The second speaker is Jennifer Maxwell\, ITPSO / Counterintelligence / Investigator for Lockheed Martin Corporation. She will provide a CI / Insider Threat Brief. She is a former FBI agent and Air Force Intelligence Officer.
URL:https://classmgmt.com/event/ncms-pnw-chapter-19-q4-meeting/
CATEGORIES:Chapter,Pacific Northwest Chapter
END:VEVENT
BEGIN:VEVENT
DTSTART;TZID=America/New_York:20251022T150000
DTEND;TZID=America/New_York:20251022T160000
DTSTAMP:20260419T205428
CREATED:20250919T183316Z
LAST-MODIFIED:20251022T033451Z
UID:11441-1761145200-1761148800@classmgmt.com
SUMMARY:ET - NCMSLive Training Series: CMMC (1 CEU Credit)
DESCRIPTION:PRESENTED BY: Matthew Hoeper\, EDWPS  and Joy Beland\, Summit 7The long awaited 48 CFR Final Rule was published on 20 September 2025 making CMMC a binding requirement in defense contracts. Join us as we discuss the requirements and what to do now.
URL:https://classmgmt.com/event/et-ncmslive-training-series-cmmc-1-ceu-credit-3/
CATEGORIES:National
END:VEVENT
BEGIN:VEVENT
DTSTART;TZID=America/New_York:20251022T150000
DTEND;TZID=America/New_York:20251022T160000
DTSTAMP:20260419T205428
CREATED:20250919T173445Z
LAST-MODIFIED:20250919T183316Z
UID:11423-1761145200-1761148800@classmgmt.com
SUMMARY:ET - NCMSLive Training Series: CMMC (1 CEU Credit)
DESCRIPTION:PRESENTED BY: Matthew Hoeper<br />\nEDWPS<br />\n<br />\n<br />\n<br />\nJoy Beland<br />\nSummit 7The long-awaited 48 CFR Final Rule was published on 20 September 2025 making CMMC a binding requirement in defense contracts. Join us as we discuss the requirements and what to do now.
URL:https://classmgmt.com/event/et-ncmslive-training-series-cmmc-1-ceu-credit/
CATEGORIES:National
END:VEVENT
BEGIN:VEVENT
DTSTART;TZID=America/New_York:20251022T150000
DTEND;TZID=America/New_York:20251022T160000
DTSTAMP:20260419T205428
CREATED:20250919T173445Z
LAST-MODIFIED:20250919T183316Z
UID:11424-1761145200-1761148800@classmgmt.com
SUMMARY:ET - NCMSLive Training Series: CMMC (1 CEU Credit)
DESCRIPTION:PRESENTED BY: Matthew Hoeper\nEDWPS \nJoy Beland\nSummit 7The long-awaited 48 CFR Final Rule was published on 20 September 2025 making CMMC a binding requirement in defense contracts. Join us as we discuss the requirements and what to do now.
URL:https://classmgmt.com/event/et-ncmslive-training-series-cmmc-1-ceu-credit-2/
CATEGORIES:National
END:VEVENT
BEGIN:VEVENT
DTSTART;TZID=America/New_York:20251016T150000
DTEND;TZID=America/New_York:20251016T160000
DTSTAMP:20260419T205428
CREATED:20250919T183316Z
LAST-MODIFIED:20251016T033433Z
UID:11440-1760626800-1760630400@classmgmt.com
SUMMARY:SPECIAL - NCMSLive Training Series: ISP Recertification Part 1 Required CEUs (0 CEU Credits)
DESCRIPTION:PRESENTED BY: Deborah Belsinger\, SQURRL Consulting\, LLCRecertification is required every three years to maintain a foundation of knowledge and expertise that directly contributes to our warfighters safety and security. Join us to discuss the CEUs required as part of this recertification process.
URL:https://classmgmt.com/event/special-ncmslive-training-series-isp-recertification-part-1-required-ceus-0-ceu-credits-2/
CATEGORIES:National
END:VEVENT
BEGIN:VEVENT
DTSTART;TZID=America/New_York:20251016T150000
DTEND;TZID=America/New_York:20251016T160000
DTSTAMP:20260419T205428
CREATED:20250919T173445Z
LAST-MODIFIED:20250919T183316Z
UID:11422-1760626800-1760630400@classmgmt.com
SUMMARY:SPECIAL - NCMSLive Training Series: ISP® Recertification\, Part 1 – Required CEUs (0 CEU Credits)
DESCRIPTION:PRESENTED BY: Deborah Belsinger\nSQURRL Consulting\, LLCRecertification is required every three years to maintain a foundation of knowledge and expertise that directly contributes to our warfighters safety and security.  Join us to discuss the CEUs required as part of this recertification process.
URL:https://classmgmt.com/event/special-ncmslive-training-series-isp-recertification-part-1-required-ceus-0-ceu-credits/
CATEGORIES:National
END:VEVENT
BEGIN:VEVENT
DTSTART;TZID=America/New_York:20251015T150000
DTEND;TZID=America/New_York:20251015T160000
DTSTAMP:20260419T205428
CREATED:20250919T183316Z
LAST-MODIFIED:20251014T183257Z
UID:11439-1760540400-1760544000@classmgmt.com
SUMMARY:IA - NCMSLive Training Series: Ask the Cyber Guy CORA Key Indicators of Risk Overview (1 CEU Credit)
DESCRIPTION:PRESENTED BY: Ottis Grim\, DCSATHIS EVENT IS PENDING GOVERNMENT REOPENING – UPDATES TO FOLLOW                                    \n                                                                       CORA is designed to provide DoD leaders with critical insights to enhance their cyber defense strategies. By identifying high-risk activities\, organizations can allocate resources efficiently to address the most prevalent and dangerous cyber threats. Join us as we discuss the key indicators.
URL:https://classmgmt.com/event/ia-ncmslive-training-series-ask-the-cyber-guy-cora-key-indicators-of-risk-overview-1-ceu-credit-2/
CATEGORIES:National
END:VEVENT
BEGIN:VEVENT
DTSTART;TZID=America/New_York:20251015T150000
DTEND;TZID=America/New_York:20251015T160000
DTSTAMP:20260419T205428
CREATED:20250919T173445Z
LAST-MODIFIED:20250919T183316Z
UID:11421-1760540400-1760544000@classmgmt.com
SUMMARY:IA - NCMSLive Training Series: Ask the Cyber Guy: CORA Key Indicators of Risk Overview (1 CEU Credit)
DESCRIPTION:PRESENTED BY: Ottis Grim\,\nDCSACORA is designed to provide DoD leaders with critical insights to enhance their cyber defense strategies. By identifying high-risk activities\, organizations can allocate resources efficiently to address the most prevalent and dangerous cyber threats. Join us as we discuss the key indicators.
URL:https://classmgmt.com/event/ia-ncmslive-training-series-ask-the-cyber-guy-cora-key-indicators-of-risk-overview-1-ceu-credit/
CATEGORIES:National
END:VEVENT
BEGIN:VEVENT
DTSTART;TZID=America/New_York:20251014T093000
DTEND;TZID=America/New_York:20251014T141500
DTSTAMP:20260419T205428
CREATED:20250909T163244Z
LAST-MODIFIED:20251014T033231Z
UID:11383-1760434200-1760451300@classmgmt.com
SUMMARY:BP - NCMSLive Training Series: MLP 9-9 for 9-14 (1 CEU Credit)
DESCRIPTION:Join us for a full day of security.  Richard Ray with EUTELSAT America Corp and OneWeb Technologies will be briefing us on SF238 Update and FOCI 101.  Richard is a SME on anything international so you can certainly bring those questions also.  We also have Gregory Davis our Counterintelligence Special Agent with DCSA joining us to give us an updated CI briefing.
URL:https://classmgmt.com/event/bp-ncmslive-training-series-mlp-9-9-for-9-14-1-ceu-credit/
CATEGORIES:Central VA Chapter,Chapter,National
END:VEVENT
BEGIN:VEVENT
DTSTART;TZID=America/New_York:20251009T150000
DTEND;TZID=America/New_York:20251009T160000
DTSTAMP:20260419T205428
CREATED:20250919T183316Z
LAST-MODIFIED:20251009T033502Z
UID:11438-1760022000-1760025600@classmgmt.com
SUMMARY:SPECIAL - NCMSLive Training Series: What the FOCI (1 CEU Credit)
DESCRIPTION:PRESENTED BY: Tom Brewer\, TAD PGS and PDS Defense\, Inc. Richard Ray\, Eutelsat NS Curtis Chappell\, Thales Defense and Security\, Inc. Join us as we discuss updates from two recent FOCI Conferences. The FOCI Conference from 15 August and the ACI FOCI Forum from 29-30 September.
URL:https://classmgmt.com/event/special-ncmslive-training-series-what-the-foci-1-ceu-credit-3/
CATEGORIES:National
END:VEVENT
BEGIN:VEVENT
DTSTART;TZID=America/New_York:20251009T150000
DTEND;TZID=America/New_York:20251009T160000
DTSTAMP:20260419T205428
CREATED:20250919T163425Z
LAST-MODIFIED:20250919T183316Z
UID:11415-1760022000-1760025600@classmgmt.com
SUMMARY:SPECIAL - NCMSLive Training Series: What the FOCI (1 CEU Credit)
DESCRIPTION:PRESENTED BY: Tom Brewer\nTAD PGS & PDS Defense\, Inc. \nRichard Ray\nEutelsat NS \nCurtis Chappell\nThales Defense & Security\, Inc.Join us as we discuss updates from two recent FOCI Conferences. The FOCI Conference from 15 August and the ACI FOCI Forum from 29-30 September.
URL:https://classmgmt.com/event/special-ncmslive-training-series-what-the-foci-1-ceu-credit-2/
CATEGORIES:National
END:VEVENT
BEGIN:VEVENT
DTSTART;TZID=America/New_York:20251008T150000
DTEND;TZID=America/New_York:20251008T160000
DTSTAMP:20260419T205428
CREATED:20250919T183316Z
LAST-MODIFIED:20251008T033331Z
UID:11437-1759935600-1759939200@classmgmt.com
SUMMARY:ET - NCMSLive Training Series: Ask the FSO (1 CEU Credit)
DESCRIPTION:PRESENTED BY: Catherine Kaohi\, ISP\, CS Consulting\, Inc.You provide us with the questions about industrial security and we will provide you with the answers. Questions may be sent ahead of time to NCMSLive@classmgmt.com.
URL:https://classmgmt.com/event/et-ncmslive-training-series-ask-the-fso-1-ceu-credit-6/
CATEGORIES:National
END:VEVENT
BEGIN:VEVENT
DTSTART;TZID=America/New_York:20251008T150000
DTEND;TZID=America/New_York:20251008T160000
DTSTAMP:20260419T205428
CREATED:20250919T163425Z
LAST-MODIFIED:20250919T183316Z
UID:11414-1759935600-1759939200@classmgmt.com
SUMMARY:ET - NCMSLive Training Series: Ask the FSO (1 CEU Credit)
DESCRIPTION:PRESENTED BY: Catherine Kaohi\, ISP®\nCS Consulting\, Inc.You provide us the questions about industrial security\, and we will provide you the answers. Questions may be sent ahead of time to NCMSLive@classmgmt.com.
URL:https://classmgmt.com/event/et-ncmslive-training-series-ask-the-fso-1-ceu-credit-5/
CATEGORIES:National
END:VEVENT
BEGIN:VEVENT
DTSTART;TZID=America/New_York:20251008T110000
DTEND;TZID=America/New_York:20251008T130000
DTSTAMP:20260419T205428
CREATED:20250408T190001Z
LAST-MODIFIED:20251008T033331Z
UID:6810-1759921200-1759928400@classmgmt.com
SUMMARY:West TN Chapter Meeting
DESCRIPTION:
URL:https://classmgmt.com/event/west-tn-chapter-meeting-3/
CATEGORIES:Chapter,West Tennessee Chapter
END:VEVENT
BEGIN:VEVENT
DTSTART;TZID=America/New_York:20251007T140000
DTEND;TZID=America/New_York:20251007T151500
DTSTAMP:20260419T205428
CREATED:20250626T205830Z
LAST-MODIFIED:20251007T033326Z
UID:10803-1759845600-1759850100@classmgmt.com
SUMMARY:SCIFs\, SAPFs\, Part 2
DESCRIPTION:Physical Security class: SCIFs\, SAPFs\, Parts 1 & 2\, presented by SPG Incorporated\n1 CEU
URL:https://classmgmt.com/event/scifs-sapfs-part-2/
CATEGORIES:Chapter,Pikes Peak Chapter
END:VEVENT
BEGIN:VEVENT
DTSTART;TZID=America/New_York:20251007T073000
DTEND;TZID=America/New_York:20251007T163000
DTSTAMP:20260419T205428
CREATED:20250513T125730Z
LAST-MODIFIED:20251007T033326Z
UID:7335-1759822200-1759854600@classmgmt.com
SUMMARY:New England Chapter Fall Seminar
DESCRIPTION:SAVE THE DATE: NCMS New England Chapter is currently planning our Fall Seminar for 07 October.  Registration Information will be posted closer to the event.
URL:https://classmgmt.com/event/new-england-chapter-fall-seminar/
CATEGORIES:Chapter,New England Chapter
END:VEVENT
BEGIN:VEVENT
DTSTART;TZID=America/New_York:20251002T150000
DTEND;TZID=America/New_York:20251002T160000
DTSTAMP:20260419T205428
CREATED:20250919T183316Z
LAST-MODIFIED:20251002T033502Z
UID:11436-1759417200-1759420800@classmgmt.com
SUMMARY:ET - NCMSLive Training Series: CMMC Therapy - The 12 Step Journey - Step 2 - Diagrams (1 CEU Credit)
DESCRIPTION:PRESENTED BY: Jim Goepel\, Fathom CyberA picture is worth 1\,000 words. That is why\, armed with the inventories that we created in the last session (Step 1 presented on 9/4/25)\, we’re now going to create diagrams and other drawings that help us explain to the assessment team the who\, what\, where\, when\, why and how of our CUI information security program.
URL:https://classmgmt.com/event/et-ncmslive-training-series-cmmc-therapy-the-12-step-journey-step-2-diagrams-1-ceu-credit-2/
CATEGORIES:National
END:VEVENT
BEGIN:VEVENT
DTSTART;TZID=America/New_York:20251002T150000
DTEND;TZID=America/New_York:20251002T160000
DTSTAMP:20260419T205428
CREATED:20250919T163425Z
LAST-MODIFIED:20250919T183316Z
UID:11413-1759417200-1759420800@classmgmt.com
SUMMARY:ET - NCMSLive Training Series: CMMC Therapy: The 12 Step Journey - Step 2 - Diagrams (1 CEU Credit)
DESCRIPTION:PRESENTED BY: Jim Goepel\nFathom CyberA picture is worth 1\,000 words. That is why\, armed with the inventories we created in the last session (Step 1 presented on 9/4/2025)\, we’re now going to create diagrams and other drawings that help us explain to the assessment team the who\, what\, where\, when\, why\, and how of our CUI information security program.
URL:https://classmgmt.com/event/et-ncmslive-training-series-cmmc-therapy-the-12-step-journey-step-2-diagrams-1-ceu-credit/
CATEGORIES:National
END:VEVENT
BEGIN:VEVENT
DTSTART;TZID=America/New_York:20251001T150000
DTEND;TZID=America/New_York:20251001T160000
DTSTAMP:20260419T205428
CREATED:20250919T163425Z
LAST-MODIFIED:20250919T183316Z
UID:11411-1759330800-1759334400@classmgmt.com
SUMMARY:SPECIAL - NCMSLive Training Series: MLP Test 10-1 (1 CEU Credit)
DESCRIPTION:PRESENTED BY: Test SpeakerMLP Test 10-1
URL:https://classmgmt.com/event/special-ncmslive-training-series-mlp-test-10-1-1-ceu-credit/
CATEGORIES:National
END:VEVENT
BEGIN:VEVENT
DTSTART;TZID=America/New_York:20251001T140000
DTEND;TZID=America/New_York:20251001T150000
DTSTAMP:20260419T205428
CREATED:20250923T173239Z
LAST-MODIFIED:20251001T033503Z
UID:11458-1759327200-1759330800@classmgmt.com
SUMMARY:ET - NCMSLive Training Series: CMMC for Small Businesses (0 CEU Credits)
DESCRIPTION:PRESENTED BY: Jim Goepel\, Fathom Cyber\, Greg Laroche\, Preveil\, Stuart Itkin\, Future Feed\, Chase Berman\, Future Feed\, Toby Musser\, MNS Group\, Michael Dempsey\, CISEVEJoin us as Lynn Burns hosts four companies who will present commercialized briefings on what their companies can do for small businesses to assist them with obtaining their CMMC assessment.
URL:https://classmgmt.com/event/et-ncmslive-training-series-cmmc-for-small-businesses-0-ceu-credits-4/
CATEGORIES:National
END:VEVENT
BEGIN:VEVENT
DTSTART;TZID=America/New_York:20251001T140000
DTEND;TZID=America/New_York:20251001T150000
DTSTAMP:20260419T205428
CREATED:20250919T183316Z
LAST-MODIFIED:20250923T143310Z
UID:11433-1759327200-1759330800@classmgmt.com
SUMMARY:ET - NCMSLive Training Series: CMMC for Small Business (0 CEU Credits)
DESCRIPTION:PRESENTED BY: Jim Goepel\, Fathom Cyber \nGreg Laroche\, Preveil \nStuart Itkin\, Future Feed \nChase Berman\, Future Feed \nToby Musser\, MNS Group \nMichael Dempsey\, CISEVEJoin us as Lynn Burns hosts four companies who will present commercialized briefings on what their companies can do for small businesses to assist them with obtaining their CMMC assessment.
URL:https://classmgmt.com/event/et-ncmslive-training-series-cmmc-for-small-business-0-ceu-credits/
CATEGORIES:National
END:VEVENT
BEGIN:VEVENT
DTSTART;TZID=America/New_York:20251001T140000
DTEND;TZID=America/New_York:20251001T150000
DTSTAMP:20260419T205428
CREATED:20250919T183316Z
LAST-MODIFIED:20250923T153234Z
UID:11434-1759327200-1759330800@classmgmt.com
SUMMARY:ET - NCMSLive Training Series: CMMC for Small Business (0 CEU Credits)
DESCRIPTION:PRESENTED BY: Jim Goepel\nFathom Cyber \nGreg Laroche\nPreveil \nStuart Itkin\nFuture Feed \nChase Berman\nFuture Feed \nToby Musser\nMNS Group\nMichael Dempsey CISEVEJoin us as Lynn Burns hosts four companies who will present commercialized briefings on what their companies can do for small businesses to assist them with obtaining their CMMC assessment.
URL:https://classmgmt.com/event/et-ncmslive-training-series-cmmc-for-small-business-0-ceu-credits-2/
CATEGORIES:National
END:VEVENT
BEGIN:VEVENT
DTSTART;TZID=America/New_York:20251001T140000
DTEND;TZID=America/New_York:20251001T150000
DTSTAMP:20260419T205428
CREATED:20250919T183316Z
LAST-MODIFIED:20250923T133246Z
UID:11435-1759327200-1759330800@classmgmt.com
SUMMARY:ET - NCMSLive Training Series: CMMC for Small Businesses (0 CEU Credits)
DESCRIPTION:PRESENTED BY: Jim Goepel\, Fathom Cyber                          Greg Laroche\, Preveil                                        Stuart Itkin\, Future Feed             Chase Berman\, Future Feed                                    Toby Musser\, MNS Group                             Michael Dempsey\, CISEVEJoin us as Lynn Burns hosts four companies who will present commercialized briefings on what their companies can do for small businesses to assist them with obtaining their CMMC assessment.
URL:https://classmgmt.com/event/et-ncmslive-training-series-cmmc-for-small-businesses-0-ceu-credits-3/
CATEGORIES:National
END:VEVENT
BEGIN:VEVENT
DTSTART;TZID=America/New_York:20251001T140000
DTEND;TZID=America/New_York:20251001T150000
DTSTAMP:20260419T205428
CREATED:20250919T163425Z
LAST-MODIFIED:20250919T183316Z
UID:11412-1759327200-1759330800@classmgmt.com
SUMMARY:ET - NCMSLive Training Series: CMMC for Small Businesses (0 CEU Credits)
DESCRIPTION:PRESENTED BY: Jim Goepel\nFathom Cyber \nGreg Laroche\nPreveil \nStuart Itkin\nFuture Feed \nChase Berman\nFuture Feed \nToby Musser\nMNS Group \nMichael Dempsey\nCISEVEJoin us as Lynn Burns hosts four companies who will present commercialized briefings on what their companies can do for small businesses to assist them with obtaining their CMMC assessment.
URL:https://classmgmt.com/event/et-ncmslive-training-series-cmmc-for-small-businesses-0-ceu-credits-2/
CATEGORIES:National
END:VEVENT
BEGIN:VEVENT
DTSTART;TZID=America/New_York:20251001T140000
DTEND;TZID=America/New_York:20251001T150000
DTSTAMP:20260419T205428
CREATED:20250919T153301Z
LAST-MODIFIED:20250919T153301Z
UID:11410-1759327200-1759330800@classmgmt.com
SUMMARY:ET - NCMSLive Training Series: CMMC for Small Businesses (0 CEU Credits)
DESCRIPTION:PRESENTED BY: Jim Goepel\nFathom Cyber \nGreg Laroche\nPreveil \nStuart Itkin\nFuture Feed \nChase Berman\nFuture Feed \nToby Musser\nMNS Group \nMichael Dempsey\nCISEVEJoin us as Lynn Burns hosts four companies who will present commercialized briefings on what their companies can do for small businesses to assist them with obtaining their CMMC assessment.
URL:https://classmgmt.com/event/et-ncmslive-training-series-cmmc-for-small-businesses-0-ceu-credits/
CATEGORIES:National
END:VEVENT
BEGIN:VEVENT
DTSTART;TZID=America/New_York:20250930T180000
DTEND;TZID=America/New_York:20250930T190000
DTSTAMP:20260419T205428
CREATED:20250826T153327Z
LAST-MODIFIED:20250930T033503Z
UID:11341-1759255200-1759258800@classmgmt.com
SUMMARY:IA - NCMSLive Training Series: The Cyber AB Town Hall (1 CEU Credit)
DESCRIPTION:PRESENTED BY: Live SimulcastJoin us as we simulcast The Cyber AB Town Hall where we will hear updates on the CMMC program from the operations team of the Accreditation Body. Review past Town Hall recordings here: https://cyberab.org/news-events/town-halls. Questions may be sent ahead of time to NCMSLive@classmgmt.com.
URL:https://classmgmt.com/event/ia-ncmslive-training-series-the-cyber-ab-town-hall-1-ceu-credit-5/
CATEGORIES:National
END:VEVENT
BEGIN:VEVENT
DTSTART;TZID=America/New_York:20250930T140000
DTEND;TZID=America/New_York:20250930T140100
DTSTAMP:20260419T205428
CREATED:20250708T203642Z
LAST-MODIFIED:20250930T033503Z
UID:10802-1759240800-1759240860@classmgmt.com
SUMMARY:SCIFs\, SAPFs\, Part 1
DESCRIPTION:Physical Security Class: SCIFs\, SAPFs\, Part 1 Canceled (See October Class)
URL:https://classmgmt.com/event/scifs-sapfs-part-1/
CATEGORIES:Chapter,Pikes Peak Chapter
END:VEVENT
BEGIN:VEVENT
DTSTART;TZID=America/New_York:20250925T150000
DTEND;TZID=America/New_York:20250925T160000
DTSTAMP:20260419T205428
CREATED:20250826T153327Z
LAST-MODIFIED:20250925T033502Z
UID:11340-1758812400-1758816000@classmgmt.com
SUMMARY:IT - NCMSLive Training Series: Insider Threat Training Best Practices Standard (1 CEU Credit)
DESCRIPTION:PRESENTED BY: Jessica Lee\n3M CenterJessica will share insider threat training best practices that can be adopted as standard practices within your organization. The session will also provide guidance on the new DCSA training requirements for Insider Threat Program Personnel\, helping teams strengthen compliance and resilience.
URL:https://classmgmt.com/event/it-ncmslive-training-series-insider-threat-training-best-practices-standard-1-ceu-credit/
CATEGORIES:National
END:VEVENT
BEGIN:VEVENT
DTSTART;TZID=America/New_York:20250924T150000
DTEND;TZID=America/New_York:20250924T160000
DTSTAMP:20260419T205428
CREATED:20250826T153327Z
LAST-MODIFIED:20250924T033502Z
UID:11339-1758726000-1758729600@classmgmt.com
SUMMARY:ET - NCMSLive Training Series: Suspicious Contact Reporting (1 CEU Credit)
DESCRIPTION:PRESENTED BY: Catherine Kaohi\, ISP®\nCS Consulting\, Inc. What is a suspicious contact and how do we report it?  What information is needed? Join us as we discuss suspicious contacts\, all the reporting requirements associated with it\, and how to alert your employees to it.
URL:https://classmgmt.com/event/et-ncmslive-training-series-suspicious-contact-reporting-1-ceu-credit/
CATEGORIES:National
END:VEVENT
BEGIN:VEVENT
DTSTART;TZID=America/New_York:20250923T090000
DTEND;TZID=America/New_York:20250923T113000
DTSTAMP:20260419T205428
CREATED:20250408T190002Z
LAST-MODIFIED:20250923T033255Z
UID:6831-1758618000-1758627000@classmgmt.com
SUMMARY:Northwest California Chapter Meeting
DESCRIPTION:Agenda: Local CI Update from DCSA and An OPSEC Overview – don’t miss out!
URL:https://classmgmt.com/event/northwest-california-chapter-meeting-3/
CATEGORIES:Chapter,Northwest California Chapter
END:VEVENT
END:VCALENDAR